BEGIN:VCALENDAR
VERSION:2.0
PRODID:-//A-Chalet - ECPv6.15.20//NONSGML v1.0//EN
CALSCALE:GREGORIAN
METHOD:PUBLISH
X-WR-CALNAME:A-Chalet
X-ORIGINAL-URL:https://achalet.com
X-WR-CALDESC:Events for A-Chalet
REFRESH-INTERVAL;VALUE=DURATION:PT1H
X-Robots-Tag:noindex
X-PUBLISHED-TTL:PT1H
BEGIN:VTIMEZONE
TZID:America/Los_Angeles
BEGIN:DAYLIGHT
TZOFFSETFROM:-0800
TZOFFSETTO:-0700
TZNAME:PDT
DTSTART:20240310T100000
END:DAYLIGHT
BEGIN:STANDARD
TZOFFSETFROM:-0700
TZOFFSETTO:-0800
TZNAME:PST
DTSTART:20241103T090000
END:STANDARD
BEGIN:DAYLIGHT
TZOFFSETFROM:-0800
TZOFFSETTO:-0700
TZNAME:PDT
DTSTART:20250309T100000
END:DAYLIGHT
BEGIN:STANDARD
TZOFFSETFROM:-0700
TZOFFSETTO:-0800
TZNAME:PST
DTSTART:20251102T090000
END:STANDARD
BEGIN:DAYLIGHT
TZOFFSETFROM:-0800
TZOFFSETTO:-0700
TZNAME:PDT
DTSTART:20260308T100000
END:DAYLIGHT
BEGIN:STANDARD
TZOFFSETFROM:-0700
TZOFFSETTO:-0800
TZNAME:PST
DTSTART:20261101T090000
END:STANDARD
END:VTIMEZONE
BEGIN:VEVENT
DTSTART;TZID=America/Los_Angeles:20251005T000000
DTEND;TZID=America/Los_Angeles:20251108T000000
DTSTAMP:20260419T204224
CREATED:20250821T211354Z
LAST-MODIFIED:20250821T211354Z
UID:12457-1759622400-1762560000@achalet.com
SUMMARY:Oktoberfest 2025
DESCRIPTION:Sept. 6 – Nov. 12\, 2025 \nLocated in the mountain town of Big Bear Lake\, this annual celebration has always been based on the lore of the world™s original Oktoberfest. Over the years\, the Big Bear Lake Oktoberfest has become world renown for its own traditions and old-world ambiance\, celebrating friends\, family and good times. A festival like no other\, guests are treated to authentic German entertainment; feast on Brats and Knockwursts direct from the German butcher; and enjoy the very same beers poured at Munich™s Oktoberfest for more than 150 years! \n \nEvent Schedule \n\nFridays (October Only): 5 p.m. “ 11 p.m.\nSaturdays (September): 1 p.m. “ 11 p.m.\nSaturdays (October): 1 p.m. “ 12 a.m.\nSundays: 12 noon “ 6 p.m.\n\n\nAddress:42900 Big Bear BlvdBig Bear City\, CaliforniaLocation: Big Bear Convention CenterPhone: 909-585-3000Website:
URL:https://achalet.com/event/oktoberfest-2025-10/
LOCATION:CA
END:VEVENT
BEGIN:VEVENT
DTSTART;TZID=America/Los_Angeles:20251004T160000
DTEND;TZID=America/Los_Angeles:20251227T220000
DTSTAMP:20260419T204224
CREATED:20250821T211353Z
LAST-MODIFIED:20250821T211353Z
UID:12456-1759593600-1766872800@achalet.com
SUMMARY:Wyatt's Honky Tonk Weekends
DESCRIPTION:FRIDAYS AND SATURDAYS \nWyatt’s Grill and Saloon is truly the simple place where the good folks of Big Bear gather. Join this friendly crew every Friday and Saturday (Saturdays are strictly country\, yeehaw!) for live music at 6 PM!  \nDoors open at 4 PM and full restaurant and bar will be open. \nAdmission is free. \n  \n \n\nAddress:42900 Big Bear BlvdBig Bear Lake\, California 92315Time: 16:00:00 to 22:00:00Location: Big Bear Convention CenterPhone: 909-585-3000Website:
URL:https://achalet.com/event/wyatts-honky-tonk-weekends-14/
LOCATION:CA
END:VEVENT
BEGIN:VEVENT
DTSTART;TZID=America/Los_Angeles:20251004T140000
DTEND;TZID=America/Los_Angeles:20251004T190000
DTSTAMP:20260419T204224
CREATED:20250821T211353Z
LAST-MODIFIED:20250821T211353Z
UID:12455-1759586400-1759604400@achalet.com
SUMMARY:Big Bear Crawl
DESCRIPTION:Raise your glass for a good cause at the Big Bear Crawl in The Village! \nWelcome to the Big Bear Lake Bar Crawl\, where an afternoon of fantastic drinks\, community bonding\, and goodwill awaits you! This event isn’t just about libations; it’s about making a genuine impact in our close-knit community. \nThe Crawl \nSessions Retreat and Stella Luna strive to bring the community together in a way that is both fun and safe. Through their efforts\, they hope to inspire a greater appreciation for wildlife\, raise funds for conservation\, and ignite a passion for The Village. \nEvent Date: Saturday\, October 4th from 2 PM – 7 PM \nThe Cause \nStart the Crawl at Stella Luna and hit 10 village restaurants/bars before ending at Village Sports Bar to enjoy DJ music and a Best Bear Costume Contest. But what truly sets this afternoon apart is the opportunity to give back. Your ticket purchase plays a pivotal role in supporting two remarkable causes: \nFirst\, we’re helping Big Bear Alpine Zoo continue their vital work in preserving and protecting our wildlife \nSecond\, your contribution also goes toward Grace’s Place Foundation that helps victims of domestic violence \n\nAddress:406969 Village DriveBig Bear Lake \, California 92315Time: 14:00:00 to 19:00:00Location: Stella LunaContact: Alicia KettlerPhone: 862-368-5574Website:
URL:https://achalet.com/event/big-bear-crawl/
LOCATION:CA
END:VEVENT
BEGIN:VEVENT
DTSTART;TZID=America/Los_Angeles:20251004T130000
DTEND;TZID=America/Los_Angeles:20251004T230000
DTSTAMP:20260419T204224
CREATED:20250828T061433Z
LAST-MODIFIED:20251002T061313Z
UID:12551-1759582800-1759618800@achalet.com
SUMMARY:55th Annual Big Bear Lake Oktoberfest
DESCRIPTION:
URL:https://achalet.com/event/55th-annual-big-bear-lake-oktoberfest-10/
LOCATION:Big Bear Lake Convention Center\, 42900 Big Bear Blvd\, Big Bear City\, CA\, United States
END:VEVENT
BEGIN:VEVENT
DTSTART;TZID=America/Los_Angeles:20251004T100000
DTEND;TZID=America/Los_Angeles:20251004T170000
DTSTAMP:20260419T204224
CREATED:20250821T211353Z
LAST-MODIFIED:20250821T211353Z
UID:12454-1759572000-1759597200@achalet.com
SUMMARY:2025 Porsche Timeline
DESCRIPTION:Saturday\, October 4th\, 2025 \nCome out to enjoy this event! \nSee Porsche through the years at the Big Bear Lake Porsche Timeline event. See a display of Porsche automobiles from the early 1950’s until present. The event provides an opportunity for Porsche enthusiasts to see models and styles through the decades and socialize in a great environment.  \n<a href="” target=”_blank” rel=”noreferrer noopener”> \nParticipating vehicles must be Porsche for acceptance into the Timeline event\, entry fee is $100 per vehicle. \n\nAddress:630 Bartlett Rd.Big Bear Lake\, California 92315Time: 10:00:00 to 17:00:00Location: Bartlett Parking LotWebsite:
URL:https://achalet.com/event/2025-porsche-timeline/
LOCATION:CA
END:VEVENT
BEGIN:VEVENT
DTSTART;TZID=America/Los_Angeles:20251004T100000
DTEND;TZID=America/Los_Angeles:20251004T143000
DTSTAMP:20260419T204224
CREATED:20250821T211352Z
LAST-MODIFIED:20250821T211352Z
UID:12453-1759572000-1759588200@achalet.com
SUMMARY:Summit Series #3 "Dual Slalom"
DESCRIPTION:Don™t let them get ahead of you. The 2025 Summit Series at <a href="” target=”_blank” rel=”noreferrer noopener”>Summit Bike Park wraps up in full-throttle fashion on Saturday\, October 4\, with the third and final event of the Summit Series: <a href="” target=”_blank” rel=”noreferrer noopener”>The Dual Slalom. This is the most direct competition of the season”a head-to-head race down a side-by-side course packed with berms\, jumps\, drops\, rollers\, and pure adrenaline. It™s a test of speed\, control\, and nerve as riders battle through every twist and turn to cross the finish line first. Think you™ve got what it takes? Sign up onsite only”it™s free\, open to all ages\, and comes with a shot at winning some cash if you can outpace the pack. \nNot racing? You™ll still want front-row seats for the action. No lift ticket is required to watch\, and the atmosphere will be buzzing with friendly rivalries\, nail-biting finishes\, and high-speed drama from start to finish. It™s the perfect way to send off the season”with loud cheers\, fast laps\, and a mountain full of good vibes. \nThe Dual Slalom is the final chapter in this year™s Summit Series\, following the style-heavy <a href="” target=”_blank” rel=”noreferrer noopener”>Best Whip and the sky-high <a href="” target=”_blank” rel=”noreferrer noopener”>Long Jump. Three events. One mountain. And a season full of unforgettable moments. This is where it all comes down to the wire”don™t miss your chance to be part of it. \n\nAddress:880 Summit Blvd.Big Bear Lake\, California 92315Time: 10:00:00 to 14:30:00Location: Snow SummitContact: Big Bear Mountain ResortPhone: 844.462.2327Website:
URL:https://achalet.com/event/summit-series-3-dual-slalom/
LOCATION:CA
END:VEVENT
BEGIN:VEVENT
DTSTART;TZID=America/Los_Angeles:20251003T160000
DTEND;TZID=America/Los_Angeles:20251227T220000
DTSTAMP:20260419T204224
CREATED:20250821T211347Z
LAST-MODIFIED:20250821T211347Z
UID:12451-1759507200-1766872800@achalet.com
SUMMARY:Wyatt's Honky Tonk Weekends
DESCRIPTION:FRIDAYS AND SATURDAYS \nWyatt™s Grill and Saloon is truly the simple place where the good folks of Big Bear gather. Join this friendly crew every Friday and Saturday (Saturdays are strictly country\, yeehaw!) for live music at 6 PM!  \nDoors open at 4 PM and full restaurant and bar will be open. \nAdmission is free. \n  \n \n\nAddress:42900 Big Bear BlvdBig Bear Lake\, California 92315Time: 16:00:00 to 22:00:00Location: Big Bear Convention CenterPhone: 909-585-3000Website:
URL:https://achalet.com/event/wyatts-honky-tonk-weekends-13/
LOCATION:CA
END:VEVENT
BEGIN:VEVENT
DTSTART;TZID=America/Los_Angeles:20251003T160000
DTEND;TZID=America/Los_Angeles:20251024T190000
DTSTAMP:20260419T204224
CREATED:20250821T211346Z
LAST-MODIFIED:20250821T211346Z
UID:12450-1759507200-1761332400@achalet.com
SUMMARY:Big Bear Lake Farmers Market
DESCRIPTION:Big Bear’s newest Farmer’s Market comes to Ski Beach Park every Friday this summer from 4 PM – 8 PM featuring local farms\, hot food vendors\, and artisans. Continues through October 2025. \n\nAddress:41216 Park AveBig Bear Lake\, California 92315Time: 16:00:00 to 19:00:00Location: Ski Beach ParkPhone: 909-547-4574Website:
URL:https://achalet.com/event/big-bear-lake-farmers-market-7/
LOCATION:CA
END:VEVENT
BEGIN:VEVENT
DTSTART;TZID=America/Los_Angeles:20251003T160000
DTEND;TZID=America/Los_Angeles:20251003T230000
DTSTAMP:20260419T204224
CREATED:20250828T061433Z
LAST-MODIFIED:20251002T061312Z
UID:12550-1759507200-1759532400@achalet.com
SUMMARY:55th Annual Big Bear Lake Oktoberfest
DESCRIPTION:
URL:https://achalet.com/event/55th-annual-big-bear-lake-oktoberfest-9/
LOCATION:Big Bear Lake Convention Center\, 42900 Big Bear Blvd\, Big Bear City\, CA\, United States
END:VEVENT
BEGIN:VEVENT
DTSTART;TZID=America/Los_Angeles:20251003T000000
DTEND;TZID=America/Los_Angeles:20251108T000000
DTSTAMP:20260419T204224
CREATED:20250821T211346Z
LAST-MODIFIED:20250821T211346Z
UID:12449-1759449600-1762560000@achalet.com
SUMMARY:Oktoberfest 2025
DESCRIPTION:Sept. 6 – Nov. 12\, 2025 \nLocated in the mountain town of Big Bear Lake\, this annual celebration has always been based on the lore of the world™s original Oktoberfest. Over the years\, the Big Bear Lake Oktoberfest has become world renown for its own traditions and old-world ambiance\, celebrating friends\, family and good times. A festival like no other\, guests are treated to authentic German entertainment; feast on Brats and Knockwursts direct from the German butcher; and enjoy the very same beers poured at Munich™s Oktoberfest for more than 150 years! \n \nEvent Schedule \n\nFridays (October Only): 5 p.m. “ 11 p.m.\nSaturdays (September): 1 p.m. “ 11 p.m.\nSaturdays (October): 1 p.m. “ 12 a.m.\nSundays: 12 noon “ 6 p.m.\n\n\nAddress:42900 Big Bear BlvdBig Bear City\, CaliforniaLocation: Big Bear Convention CenterPhone: 909-585-3000Website:
URL:https://achalet.com/event/oktoberfest-2025-9/
LOCATION:CA
END:VEVENT
BEGIN:VEVENT
DTSTART;TZID=America/Los_Angeles:20251001T160000
DTEND;TZID=America/Los_Angeles:20251224T233000
DTSTAMP:20260419T204224
CREATED:20250821T211337Z
LAST-MODIFIED:20250821T211337Z
UID:12447-1759334400-1766619000@achalet.com
SUMMARY:Wyatt's Country Wednesdays
DESCRIPTION:Throw on your cowboy hat every Wednesday! \nGroove to country tunes every Wednesday evening at Wyatt’s Grill & Saloon! Join in the line dancing and jump in on free lessons throughout the evening. Enjoy the friendly atmosphere and ranch style grub!  \nDoors open at 4 PM and country dancing begins at 6 PM. \nAdmission is free. \n  \n\nAddress:42900 Big Bear Blvd.Big Bear Lake\, California 92315Time: 16:00:00 to 23:30:00Location: Big Bear Convention CenterPhone: 909-585-3000Website:
URL:https://achalet.com/event/wyatts-country-wednesdays-7/
LOCATION:CA
END:VEVENT
BEGIN:VEVENT
DTSTART;TZID=America/Los_Angeles:20251001T160000
DTEND;TZID=America/Los_Angeles:20251001T220000
DTSTAMP:20260419T204224
CREATED:20250828T061432Z
LAST-MODIFIED:20250925T061342Z
UID:12549-1759334400-1759356000@achalet.com
SUMMARY:Wyatt's Country Dancing and Lessons
DESCRIPTION:Join us for Wyatt’s Country dancing with a Live DJ and Lessons taught through the night. (A Local’s Favorite)\nEnjoy food\, drinks\, and a fun atmosphere suitable for all ages.\nBring the whole family or become a part of ours!
URL:https://achalet.com/event/wyatts-country-dancing-and-lessons-6/
LOCATION:Wyatt’s Grill & Saloon\, 42900 Big Bear Blvd\, Big Bear City\, CA\, United States
END:VEVENT
BEGIN:VEVENT
DTSTART;TZID=America/Los_Angeles:20250930T083000
DTEND;TZID=America/Los_Angeles:20250930T130000
DTSTAMP:20260419T204224
CREATED:20250828T061432Z
LAST-MODIFIED:20250925T061342Z
UID:12548-1759221000-1759237200@achalet.com
SUMMARY:Big Bear Farmers Market
DESCRIPTION:Visit Their Facebook
URL:https://achalet.com/event/big-bear-farmers-market-11/
LOCATION:Big Bear Lake Convention Center\, 42900 Big Bear Blvd\, Big Bear City\, CA\, United States
ORGANIZER;CN="Convention Center at Big Bear Lake":MAILTO:info@bigbearevents.com
END:VEVENT
BEGIN:VEVENT
DTSTART;TZID=America/Los_Angeles:20250928T120000
DTEND;TZID=America/Los_Angeles:20250928T180000
DTSTAMP:20260419T204224
CREATED:20250828T061432Z
LAST-MODIFIED:20250925T061342Z
UID:12547-1759060800-1759082400@achalet.com
SUMMARY:55th Annual Big Bear Lake Oktoberfest
DESCRIPTION:
URL:https://achalet.com/event/55th-annual-big-bear-lake-oktoberfest-8/
LOCATION:Big Bear Lake Convention Center\, 42900 Big Bear Blvd\, Big Bear City\, CA\, United States
END:VEVENT
BEGIN:VEVENT
DTSTART;TZID=America/Los_Angeles:20250928T000000
DTEND;TZID=America/Los_Angeles:20251108T000000
DTSTAMP:20260419T204224
CREATED:20250821T211336Z
LAST-MODIFIED:20250821T211336Z
UID:12445-1759017600-1762560000@achalet.com
SUMMARY:Oktoberfest 2025
DESCRIPTION:Sept. 6 – Nov. 12\, 2025 \nLocated in the mountain town of Big Bear Lake\, this annual celebration has always been based on the lore of the world™s original Oktoberfest. Over the years\, the Big Bear Lake Oktoberfest has become world renown for its own traditions and old-world ambiance\, celebrating friends\, family and good times. A festival like no other\, guests are treated to authentic German entertainment; feast on Brats and Knockwursts direct from the German butcher; and enjoy the very same beers poured at Munich™s Oktoberfest for more than 150 years! \n \nEvent Schedule \n\nFridays (October Only): 5 p.m. “ 11 p.m.\nSaturdays (September): 1 p.m. “ 11 p.m.\nSaturdays (October): 1 p.m. “ 12 a.m.\nSundays: 12 noon “ 6 p.m.\n\n\nAddress:42900 Big Bear BlvdBig Bear City\, CaliforniaLocation: Big Bear Convention CenterPhone: 909-585-3000Website:
URL:https://achalet.com/event/oktoberfest-2025-8/
LOCATION:CA
END:VEVENT
BEGIN:VEVENT
DTSTART;TZID=America/Los_Angeles:20250927T183000
DTEND;TZID=America/Los_Angeles:20250927T211500
DTSTAMP:20260419T204224
CREATED:20250821T211336Z
LAST-MODIFIED:20250821T211336Z
UID:12444-1758997800-1759007700@achalet.com
SUMMARY:Glow Range Presented by Coca-Cola
DESCRIPTION:Join <a href="” target=”_blank” rel=”noreferrer noopener”>Big Bear Mountain Resort (BBMR) on September 27\, 2025 for <a href="” target=”_blank” rel=”noreferrer noopener”>Glow Range Presented by Coca-Cola\, an exciting event at the <a href="” target=”_blank” rel=”noreferrer noopener”>Bear Mountain Golf Course Driving Range. For just $120\, you and up to three (3) friends can enjoy an hour of golf with 125 glow balls and mat access. The Driving Range (located between holes 4 & 6) will be illuminated with glowing lights\, and you’ll play with glowing balls for a unique experience. \nAll <a href="” target=”_blank” rel=”noreferrer noopener”>Glow Range reservations include the following: \n¢ Up to four (4) participants for one price of $120 per mat¢ One (1) mat¢ One (1) hour (choose between 7PM-8PM or 8:15PM-9:15PM)¢ 125 glow balls¢ Coca-Cola bucket of iced Cold Cola-Cola bottles¢ Live music by DJ Slipmatt \nFor those wanting to enjoy an evening under the stars without participating in the glow Driving Range experience\, we will have plenty of free activities for all ages including live entertainment and a lit-up putting area. Learn more by visiting the BBMR <a href="” target=”_blank” rel=”noreferrer noopener”>Glow Range Presented by Coca-Cola event page.  \n\nAddress:43092 Goldmine DriveBig Bear Lake\, California 92315Time: 18:30:00 to 21:15:00Location: Bear Mountain Golf CourseContact: Big Bear Mountain ResortPhone: 844.462.2327Website:
URL:https://achalet.com/event/glow-range-presented-by-coca-cola-2/
LOCATION:CA
END:VEVENT
BEGIN:VEVENT
DTSTART;TZID=America/Los_Angeles:20250927T183000
DTEND;TZID=America/Los_Angeles:20250927T203000
DTSTAMP:20260419T204224
CREATED:20250821T211336Z
LAST-MODIFIED:20250821T211336Z
UID:12443-1758997800-1759005000@achalet.com
SUMMARY:Performing Arts Center Concert w/ Jerrod Niemann
DESCRIPTION:Saturday\, September 27th\, 2025 \nGet your country on with a live concert starring Jerrod Niemann and Kim Johnson at the Big Bear Lake Performing Arts Center from 8:00 AM to 5:00 PM! Featuring some musical wonders that made Jerrod an absolute hit like “Drink To That All Night\,” “Lover\, Lover\,” and “What Do You Want.” \nSchedule \n\nDoors Open – 6:30 PM\nKim Johnson – 7:30 PM\nJerrod Niemann – 8:30 PM\n\nTickets \n\nTier A “ $95 + fees: Reserved Seating\nTier B “ $75 + fees: General Admission Seating\nTier C – $55 + fees: General Admission Seating\n\n\nAddress:39707 Big Bear BlvdBig Bear Lake\, California 92315Time: 18:30:00 to 20:30:00Location: Big Bear Lake City HallContact: Big Bear Lake Performing Arts CenterPhone: 909-866-5831
URL:https://achalet.com/event/performing-arts-center-concert-w-jerrod-niemann/
LOCATION:CA
END:VEVENT
BEGIN:VEVENT
DTSTART;TZID=America/Los_Angeles:20250927T160000
DTEND;TZID=America/Los_Angeles:20251227T220000
DTSTAMP:20260419T204224
CREATED:20250821T211333Z
LAST-MODIFIED:20250821T211333Z
UID:12442-1758988800-1766872800@achalet.com
SUMMARY:Wyatt's Honky Tonk Weekends
DESCRIPTION:FRIDAYS AND SATURDAYS \nWyatt™s Grill and Saloon is truly the simple place where the good folks of Big Bear gather. Join this friendly crew every Friday and Saturday (Saturdays are strictly country\, yeehaw!) for live music at 6 PM!  \nDoors open at 4 PM and full restaurant and bar will be open. \nAdmission is free. \n  \n \n\nAddress:42900 Big Bear BlvdBig Bear Lake\, California 92315Time: 16:00:00 to 22:00:00Location: Big Bear Convention CenterPhone: 909-585-3000Website:
URL:https://achalet.com/event/wyatts-honky-tonk-weekends-12/
LOCATION:CA
END:VEVENT
BEGIN:VEVENT
DTSTART;TZID=America/Los_Angeles:20250927T130000
DTEND;TZID=America/Los_Angeles:20250927T230000
DTSTAMP:20260419T204224
CREATED:20250821T060709Z
LAST-MODIFIED:20250925T061342Z
UID:12295-1758978000-1759014000@achalet.com
SUMMARY:55th Annual Big Bear Lake Oktoberfest
DESCRIPTION:
URL:https://achalet.com/event/55th-annual-big-bear-lake-oktoberfest-7/
LOCATION:Big Bear Lake Convention Center\, 42900 Big Bear Blvd\, Big Bear City\, CA\, United States
END:VEVENT
BEGIN:VEVENT
DTSTART;TZID=America/Los_Angeles:20250927T110000
DTEND;TZID=America/Los_Angeles:20250927T180000
DTSTAMP:20260419T204224
CREATED:20250821T211332Z
LAST-MODIFIED:20250821T211332Z
UID:12441-1758970800-1758996000@achalet.com
SUMMARY:Big Bear Lake Lowrider Invasion
DESCRIPTION:Saturday\, September 27th\, 2025 \nIf you love the good old classics\, then this Traditional Lowrider and Classic car show is sure to scratch that nostalgic itch. Open to all makes and models\, spectating is FREE! \nSame day vehicle registration is $50 from 7:00 AM to 10:30 AM – Load in by 26th. \nVendor spots are available. \n \nAwards \n1st\, 2nd\, 3rd places to be announced during awards ceremony \nTop 10 runner ups receive cash audio products from our sponsors \n\nAddress:40650 Village DrBig Bear Lake\, California 92315Time: 11:00:00 to 18:00:00Location: Holiday inn ResortContact: Jovan MastrapaPhone: (828) 582-2059
URL:https://achalet.com/event/big-bear-lake-lowrider-invasion/
LOCATION:CA
END:VEVENT
BEGIN:VEVENT
DTSTART;TZID=America/Los_Angeles:20250927T000000
DTEND;TZID=America/Los_Angeles:20251129T000000
DTSTAMP:20260419T204224
CREATED:20250821T211332Z
LAST-MODIFIED:20250821T211332Z
UID:12439-1758931200-1764374400@achalet.com
SUMMARY:Sidewalk Astronomy
DESCRIPTION:Join the Bear Valley Astronomical Society for “Sidewalk Astronomy” in The Village. Peer through the telescopes to view stars\, planets\, and more! Set up is near the entrance of Barrel 33 Big Bear on Village Dr. \nSchedule: \nAug 2\, 2025 7:30 PM – 9:30 PM \nAug 30\, 2025 7 PM – 10 PM \nSept 27\, 2025 6:30 PM – 9 PM \nNov 29\, 2025 5 PM – 8 PM \n \nDisclaimer:  \nEvents will NOT be staged in overcast\, rainy\, windy or excessively cold conditions. \n \n\nAddress:40754 Village DrBig Bear Lake\, California 92315Location: Barrel 33Contact:
URL:https://achalet.com/event/sidewalk-astronomy-2/
LOCATION:CA
END:VEVENT
BEGIN:VEVENT
DTSTART;TZID=America/Los_Angeles:20250927T000000
DTEND;TZID=America/Los_Angeles:20251108T000000
DTSTAMP:20260419T204224
CREATED:20250821T211332Z
LAST-MODIFIED:20250821T211332Z
UID:12440-1758931200-1762560000@achalet.com
SUMMARY:Oktoberfest 2025
DESCRIPTION:Sept. 6 – Nov. 12\, 2025 \nLocated in the mountain town of Big Bear Lake\, this annual celebration has always been based on the lore of the world’s original Oktoberfest. Over the years\, the Big Bear Lake Oktoberfest has become world renown for its own traditions and old-world ambiance\, celebrating friends\, family and good times. A festival like no other\, guests are treated to authentic German entertainment; feast on Brats and Knockwursts direct from the German butcher; and enjoy the very same beers poured at Munich’s Oktoberfest for more than 150 years! \n \nEvent Schedule \n\nFridays (October Only): 5 p.m. – 11 p.m.\nSaturdays (September): 1 p.m. – 11 p.m.\nSaturdays (October): 1 p.m. – 12 a.m.\nSundays: 12 noon – 6 p.m.\n\n\nAddress:42900 Big Bear BlvdBig Bear City\, CaliforniaLocation: Big Bear Convention CenterPhone: 909-585-3000Website:
URL:https://achalet.com/event/oktoberfest-2025-7/
LOCATION:CA
END:VEVENT
BEGIN:VEVENT
DTSTART;TZID=America/Los_Angeles:20250927T000000
DTEND;TZID=America/Los_Angeles:20250928T000000
DTSTAMP:20260419T204224
CREATED:20250821T211326Z
LAST-MODIFIED:20250821T211326Z
UID:12437-1758931200-1759017600@achalet.com
SUMMARY:WON Big Bear Troutfest
DESCRIPTION:September 27th – 28th\, 2025 \nAnglers can look forward to Suzuki Marine Giving away Suzuki Spin-To-Win Cash and more!All event activities including registration will be held at the BBMWD or Big Bear Marina Gravel parking lot.There will be tens of thousands of dollars in cash and prizes at stake\, trophies and prizes for adult big fish winners (men and women™s division)\, Kids Division (both boys and girls)\, and the Big Bear community will as always roll out the red carpet for all WON anglers! \nEntry fee: $75 for adults and $50 for juniors (14 and under)\, and the first 600 entries will receive a goodie bag with a selection of items from event sponsors. \nHere is just some of what you get when you sign up for the WON Big Bear Troutfest:1) Each person that signs up for the 2025 Big Bear Troutfest will have their angler number added to the raffle bin for a chance to win prize packages. On Sunday\, September 28th at the end of the awards program we will raffle tons of prizes and awards the TOP 5 in each category.2) Trophies and merchandise will be awarded to the top five winners in each of the following categories: Adult Male\, Adult Female\, Kids Division Male (14 and under) and Kids Division Female (14 and under). This event is perfect for the entire family\, and we have prizes and levels so that anyone can win!3) A Blind Bogey Contest in which participants can win cash. 10 random weights will be chosen for each days combined weight. If your daily weight is closest to\, but not over the pre-determined Blind Bogey weight\, you win your share of the money pooled for that day. All anglers that have signed up will be eligible for the cash that will be awarded as part of the Blind Bogey Contest.4) Of course\, the fishing should be great at Big Bear Lake\, and as always\, BBMWD stocks thousands of dollars worth of trout in the lake prior to the event (15\,000 pounds in weight for 2023). \nThis year\, as in the past\, this event will be limited to only 600 entries and it does fill up fast\, so don™t delay on getting in on this one.For more information on the 19th annual Western Outdoor News Big Bear Lake Troutfest\, call Billy Egan (949) 366-0248 \n\nLocation: Big Bear LakeContact: Billy EganPhone: (949) 366-0248Website:
URL:https://achalet.com/event/won-big-bear-troutfest/
LOCATION:CA
END:VEVENT
BEGIN:VEVENT
DTSTART;TZID=America/Los_Angeles:20250926T160000
DTEND;TZID=America/Los_Angeles:20251227T220000
DTSTAMP:20260419T204224
CREATED:20250821T211325Z
LAST-MODIFIED:20250821T211325Z
UID:12436-1758902400-1766872800@achalet.com
SUMMARY:Wyatt's Honky Tonk Weekends
DESCRIPTION:FRIDAYS AND SATURDAYS \nWyatt’s Grill and Saloon is truly the simple place where the good folks of Big Bear gather. Join this friendly crew every Friday and Saturday (Saturdays are strictly country\, yeehaw!) for live music at 6 PM!  \nDoors open at 4 PM and full restaurant and bar will be open. \nAdmission is free. \n  \n \n\nAddress:42900 Big Bear BlvdBig Bear Lake\, California 92315Time: 16:00:00 to 22:00:00Location: Big Bear Convention CenterPhone: 909-585-3000Website:
URL:https://achalet.com/event/wyatts-honky-tonk-weekends-11/
LOCATION:CA
END:VEVENT
BEGIN:VEVENT
DTSTART;TZID=America/Los_Angeles:20250926T160000
DTEND;TZID=America/Los_Angeles:20251024T190000
DTSTAMP:20260419T204224
CREATED:20250821T211325Z
LAST-MODIFIED:20250821T211325Z
UID:12435-1758902400-1761332400@achalet.com
SUMMARY:Big Bear Lake Farmers Market
DESCRIPTION:Big Bear’s newest Farmer’s Market comes to Ski Beach Park every Friday this summer from 4 PM – 8 PM featuring local farms\, hot food vendors\, and artisans. Continues through October 2025. \n\nAddress:41216 Park AveBig Bear Lake\, California 92315Time: 16:00:00 to 19:00:00Location: Ski Beach ParkPhone: 909-547-4574Website:
URL:https://achalet.com/event/big-bear-lake-farmers-market-6/
LOCATION:CA
END:VEVENT
BEGIN:VEVENT
DTSTART;VALUE=DATE:20250926
DTEND;VALUE=DATE:20250927
DTSTAMP:20260419T204224
CREATED:20250904T061317Z
LAST-MODIFIED:20250925T061342Z
UID:12561-1758844800-1758931199@achalet.com
SUMMARY:**WYATT"S CLOSED**
DESCRIPTION:
URL:https://achalet.com/event/wyatts-closed-5/
LOCATION:Wyatt’s Grill & Saloon\, 42900 Big Bear Blvd\, Big Bear City\, CA\, United States
END:VEVENT
BEGIN:VEVENT
DTSTART;TZID=America/Los_Angeles:20250924T183000
DTEND;TZID=America/Los_Angeles:20250924T213000
DTSTAMP:20260419T204224
CREATED:20250911T061308Z
LAST-MODIFIED:20250918T061319Z
UID:12594-1758738600-1758749400@achalet.com
SUMMARY:Free Line Dancing Lessons With Adia
DESCRIPTION:
URL:https://achalet.com/event/free-line-dancing-lessons-with-adia/
LOCATION:Wyatt’s Grill & Saloon\, 42900 Big Bear Blvd\, Big Bear City\, CA\, United States
END:VEVENT
BEGIN:VEVENT
DTSTART;TZID=America/Los_Angeles:20250924T160000
DTEND;TZID=America/Los_Angeles:20251224T233000
DTSTAMP:20260419T204224
CREATED:20250821T211325Z
LAST-MODIFIED:20250821T211325Z
UID:12433-1758729600-1766619000@achalet.com
SUMMARY:Wyatt's Country Wednesdays
DESCRIPTION:Throw on your cowboy hat every Wednesday! \nGroove to country tunes every Wednesday evening at Wyatt’s Grill & Saloon! Join in the line dancing and jump in on free lessons throughout the evening. Enjoy the friendly atmosphere and ranch style grub!  \nDoors open at 4 PM and country dancing begins at 6 PM. \nAdmission is free. \n  \n\nAddress:42900 Big Bear Blvd.Big Bear Lake\, California 92315Time: 16:00:00 to 23:30:00Location: Big Bear Convention CenterPhone: 909-585-3000Website:
URL:https://achalet.com/event/wyatts-country-wednesdays-6/
LOCATION:CA
END:VEVENT
BEGIN:VEVENT
DTSTART;TZID=America/Los_Angeles:20250924T160000
DTEND;TZID=America/Los_Angeles:20250924T220000
DTSTAMP:20260419T204224
CREATED:20250821T060708Z
LAST-MODIFIED:20250918T061319Z
UID:12294-1758729600-1758751200@achalet.com
SUMMARY:Wyatt's Country Dancing and Lessons
DESCRIPTION:Join us for Wyatt’s Country dancing with a Live DJ and Lessons taught through the night. (A Local’s Favorite)\nEnjoy food\, drinks\, and a fun atmosphere suitable for all ages.\nBring the whole family or become a part of ours!
URL:https://achalet.com/event/wyatts-country-dancing-and-lessons-5/
LOCATION:Wyatt’s Grill & Saloon\, 42900 Big Bear Blvd\, Big Bear City\, CA\, United States
END:VEVENT
BEGIN:VEVENT
DTSTART;TZID=America/Los_Angeles:20250923T083000
DTEND;TZID=America/Los_Angeles:20250923T130000
DTSTAMP:20260419T204224
CREATED:20250821T060708Z
LAST-MODIFIED:20250918T061319Z
UID:12293-1758616200-1758632400@achalet.com
SUMMARY:Big Bear Farmers Market
DESCRIPTION:Visit Their Facebook
URL:https://achalet.com/event/big-bear-farmers-market-6/
LOCATION:Big Bear Lake Convention Center\, 42900 Big Bear Blvd\, Big Bear City\, CA\, United States
ORGANIZER;CN="Convention Center at Big Bear Lake":MAILTO:info@bigbearevents.com
END:VEVENT
END:VCALENDAR