BEGIN:VCALENDAR
VERSION:2.0
PRODID:-//A-Chalet - ECPv6.15.20//NONSGML v1.0//EN
CALSCALE:GREGORIAN
METHOD:PUBLISH
X-ORIGINAL-URL:https://achalet.com
X-WR-CALDESC:Events for A-Chalet
REFRESH-INTERVAL;VALUE=DURATION:PT1H
X-Robots-Tag:noindex
X-PUBLISHED-TTL:PT1H
BEGIN:VTIMEZONE
TZID:America/Los_Angeles
BEGIN:DAYLIGHT
TZOFFSETFROM:-0800
TZOFFSETTO:-0700
TZNAME:PDT
DTSTART:20240310T100000
END:DAYLIGHT
BEGIN:STANDARD
TZOFFSETFROM:-0700
TZOFFSETTO:-0800
TZNAME:PST
DTSTART:20241103T090000
END:STANDARD
BEGIN:DAYLIGHT
TZOFFSETFROM:-0800
TZOFFSETTO:-0700
TZNAME:PDT
DTSTART:20250309T100000
END:DAYLIGHT
BEGIN:STANDARD
TZOFFSETFROM:-0700
TZOFFSETTO:-0800
TZNAME:PST
DTSTART:20251102T090000
END:STANDARD
BEGIN:DAYLIGHT
TZOFFSETFROM:-0800
TZOFFSETTO:-0700
TZNAME:PDT
DTSTART:20260308T100000
END:DAYLIGHT
BEGIN:STANDARD
TZOFFSETFROM:-0700
TZOFFSETTO:-0800
TZNAME:PST
DTSTART:20261101T090000
END:STANDARD
BEGIN:DAYLIGHT
TZOFFSETFROM:-0800
TZOFFSETTO:-0700
TZNAME:PDT
DTSTART:20270314T100000
END:DAYLIGHT
BEGIN:STANDARD
TZOFFSETFROM:-0700
TZOFFSETTO:-0800
TZNAME:PST
DTSTART:20271107T090000
END:STANDARD
END:VTIMEZONE
BEGIN:VEVENT
DTSTART;TZID=America/Los_Angeles:20260123T180000
DTEND;TZID=America/Los_Angeles:20260123T220000
DTSTAMP:20260419T120615
CREATED:20260101T062832Z
LAST-MODIFIED:20260122T062857Z
UID:12890-1769191200-1769205600@achalet.com
SUMMARY:Southern Spirit
DESCRIPTION:
URL:https://achalet.com/event/southern-spirit-7/
LOCATION:Wyatt’s Grill & Saloon\, 42900 Big Bear Blvd\, Big Bear City\, CA\, United States
END:VEVENT
BEGIN:VEVENT
DTSTART;TZID=America/Los_Angeles:20260123T160000
DTEND;TZID=America/Los_Angeles:20260123T220000
DTSTAMP:20260419T120615
CREATED:20260101T062832Z
LAST-MODIFIED:20260122T062857Z
UID:12889-1769184000-1769205600@achalet.com
SUMMARY:Wyatt's Grill & Saloon With Dining\,Take-Out/Delivery\, & Live Music
DESCRIPTION:
URL:https://achalet.com/event/wyatts-grill-saloon-with-diningtake-out-delivery-live-music-32/
LOCATION:Wyatt’s Grill & Saloon\, 42900 Big Bear Blvd\, Big Bear City\, CA\, United States
END:VEVENT
BEGIN:VEVENT
DTSTART;TZID=America/Los_Angeles:20260121T183000
DTEND;TZID=America/Los_Angeles:20260121T213000
DTSTAMP:20260419T120615
CREATED:20251225T062824Z
LAST-MODIFIED:20260115T062824Z
UID:12876-1769020200-1769031000@achalet.com
SUMMARY:Free Line Dancing Lessons With Jennie
DESCRIPTION:
URL:https://achalet.com/event/free-line-dancing-lessons-with-tba-2/
LOCATION:Wyatt’s Grill & Saloon\, 42900 Big Bear Blvd\, Big Bear City\, CA\, United States
END:VEVENT
BEGIN:VEVENT
DTSTART;TZID=America/Los_Angeles:20260121T160000
DTEND;TZID=America/Los_Angeles:20260121T220000
DTSTAMP:20260419T120615
CREATED:20251225T062824Z
LAST-MODIFIED:20260115T062824Z
UID:12875-1769011200-1769032800@achalet.com
SUMMARY:Wyatt's Grill & Saloon With Dining\,Take-Out/Delivery\, & Live Music
DESCRIPTION:
URL:https://achalet.com/event/wyatts-grill-saloon-with-diningtake-out-delivery-live-music-31/
LOCATION:Wyatt’s Grill & Saloon\, 42900 Big Bear Blvd\, Big Bear City\, CA\, United States
END:VEVENT
BEGIN:VEVENT
DTSTART;TZID=America/Los_Angeles:20260117T180000
DTEND;TZID=America/Los_Angeles:20260117T220000
DTSTAMP:20260419T120615
CREATED:20251225T062824Z
LAST-MODIFIED:20260115T062824Z
UID:12874-1768672800-1768687200@achalet.com
SUMMARY:DragonWolfe
DESCRIPTION:
URL:https://achalet.com/event/dragonwolfe-6/
LOCATION:Wyatt’s Grill & Saloon\, 42900 Big Bear Blvd\, Big Bear City\, CA\, United States
END:VEVENT
BEGIN:VEVENT
DTSTART;TZID=America/Los_Angeles:20260117T160000
DTEND;TZID=America/Los_Angeles:20260117T220000
DTSTAMP:20260419T120615
CREATED:20251225T062824Z
LAST-MODIFIED:20260115T062824Z
UID:12873-1768665600-1768687200@achalet.com
SUMMARY:Wyatt's Grill & Saloon With Dining\,Take-Out/Delivery\, & Live Music
DESCRIPTION:
URL:https://achalet.com/event/wyatts-grill-saloon-with-diningtake-out-delivery-live-music-30/
LOCATION:Wyatt’s Grill & Saloon\, 42900 Big Bear Blvd\, Big Bear City\, CA\, United States
END:VEVENT
BEGIN:VEVENT
DTSTART;TZID=America/Los_Angeles:20260116T180000
DTEND;TZID=America/Los_Angeles:20260116T220000
DTSTAMP:20260419T120615
CREATED:20251225T062823Z
LAST-MODIFIED:20260115T062823Z
UID:12872-1768586400-1768600800@achalet.com
SUMMARY:Mojave Heat
DESCRIPTION:
URL:https://achalet.com/event/mojave-heat/
LOCATION:Wyatt’s Grill & Saloon\, 42900 Big Bear Blvd\, Big Bear City\, CA\, United States
END:VEVENT
BEGIN:VEVENT
DTSTART;TZID=America/Los_Angeles:20260116T160000
DTEND;TZID=America/Los_Angeles:20260116T220000
DTSTAMP:20260419T120615
CREATED:20251225T062823Z
LAST-MODIFIED:20260115T062823Z
UID:12871-1768579200-1768600800@achalet.com
SUMMARY:Wyatt's Grill & Saloon With Dining\,Take-Out/Delivery\, & Live Music
DESCRIPTION:
URL:https://achalet.com/event/wyatts-grill-saloon-with-diningtake-out-delivery-live-music-29/
LOCATION:Wyatt’s Grill & Saloon\, 42900 Big Bear Blvd\, Big Bear City\, CA\, United States
END:VEVENT
BEGIN:VEVENT
DTSTART;TZID=America/Los_Angeles:20260114T183000
DTEND;TZID=America/Los_Angeles:20260114T213000
DTSTAMP:20260419T120615
CREATED:20251225T062823Z
LAST-MODIFIED:20260108T062824Z
UID:12870-1768415400-1768426200@achalet.com
SUMMARY:Free Line Dancing Lessons With Adia
DESCRIPTION:
URL:https://achalet.com/event/free-line-dancing-lessons-with-adia-6/
LOCATION:Wyatt’s Grill & Saloon\, 42900 Big Bear Blvd\, Big Bear City\, CA\, United States
END:VEVENT
BEGIN:VEVENT
DTSTART;TZID=America/Los_Angeles:20260114T160000
DTEND;TZID=America/Los_Angeles:20260114T220000
DTSTAMP:20260419T120615
CREATED:20251225T062823Z
LAST-MODIFIED:20260108T062824Z
UID:12869-1768406400-1768428000@achalet.com
SUMMARY:Wyatt's Grill & Saloon With Dining\,Take-Out/Delivery\, & Live Music
DESCRIPTION:
URL:https://achalet.com/event/wyatts-grill-saloon-with-diningtake-out-delivery-live-music-28/
LOCATION:Wyatt’s Grill & Saloon\, 42900 Big Bear Blvd\, Big Bear City\, CA\, United States
END:VEVENT
BEGIN:VEVENT
DTSTART;TZID=America/Los_Angeles:20260110T180000
DTEND;TZID=America/Los_Angeles:20260110T220000
DTSTAMP:20260419T120615
CREATED:20251225T062823Z
LAST-MODIFIED:20260108T062824Z
UID:12868-1768068000-1768082400@achalet.com
SUMMARY:Street Music Band
DESCRIPTION:
URL:https://achalet.com/event/street-music-band-4/
LOCATION:Wyatt’s Grill & Saloon\, 42900 Big Bear Blvd\, Big Bear City\, CA\, United States
END:VEVENT
BEGIN:VEVENT
DTSTART;TZID=America/Los_Angeles:20260110T160000
DTEND;TZID=America/Los_Angeles:20260110T220000
DTSTAMP:20260419T120615
CREATED:20251218T062820Z
LAST-MODIFIED:20260108T062824Z
UID:12851-1768060800-1768082400@achalet.com
SUMMARY:Wyatt's Grill & Saloon With Dining\,Take-Out/Delivery\, & Live Music
DESCRIPTION:
URL:https://achalet.com/event/wyatts-grill-saloon-with-diningtake-out-delivery-live-music-27/
LOCATION:Wyatt’s Grill & Saloon\, 42900 Big Bear Blvd\, Big Bear City\, CA\, United States
END:VEVENT
BEGIN:VEVENT
DTSTART;TZID=America/Los_Angeles:20260109T180000
DTEND;TZID=America/Los_Angeles:20260109T220000
DTSTAMP:20260419T120615
CREATED:20251218T062820Z
LAST-MODIFIED:20260108T062824Z
UID:12850-1767981600-1767996000@achalet.com
SUMMARY:Winslow Band
DESCRIPTION:
URL:https://achalet.com/event/winslow-band-2/
LOCATION:Wyatt’s Grill & Saloon\, 42900 Big Bear Blvd\, Big Bear City\, CA\, United States
END:VEVENT
BEGIN:VEVENT
DTSTART;TZID=America/Los_Angeles:20260109T160000
DTEND;TZID=America/Los_Angeles:20260109T220000
DTSTAMP:20260419T120615
CREATED:20251218T062819Z
LAST-MODIFIED:20260108T062824Z
UID:12849-1767974400-1767996000@achalet.com
SUMMARY:Wyatt's Grill & Saloon With Dining\,Take-Out/Delivery\, & Live Music
DESCRIPTION:
URL:https://achalet.com/event/wyatts-grill-saloon-with-diningtake-out-delivery-live-music-26/
LOCATION:Wyatt’s Grill & Saloon\, 42900 Big Bear Blvd\, Big Bear City\, CA\, United States
END:VEVENT
BEGIN:VEVENT
DTSTART;TZID=America/Los_Angeles:20260107T183000
DTEND;TZID=America/Los_Angeles:20260107T213000
DTSTAMP:20260419T120615
CREATED:20251218T062819Z
LAST-MODIFIED:20260101T062831Z
UID:12848-1767810600-1767821400@achalet.com
SUMMARY:Free Line Dancing Lessons With Chase
DESCRIPTION:
URL:https://achalet.com/event/free-line-dancing-lessons-with-tba/
LOCATION:Wyatt’s Grill & Saloon\, 42900 Big Bear Blvd\, Big Bear City\, CA\, United States
END:VEVENT
BEGIN:VEVENT
DTSTART;TZID=America/Los_Angeles:20260107T160000
DTEND;TZID=America/Los_Angeles:20260107T220000
DTSTAMP:20260419T120615
CREATED:20251218T062819Z
LAST-MODIFIED:20260101T062830Z
UID:12847-1767801600-1767823200@achalet.com
SUMMARY:Wyatt's Grill & Saloon With Dining\,Take-Out/Delivery\, & Live Music
DESCRIPTION:
URL:https://achalet.com/event/wyatts-grill-saloon-with-diningtake-out-delivery-live-music-25/
LOCATION:Wyatt’s Grill & Saloon\, 42900 Big Bear Blvd\, Big Bear City\, CA\, United States
END:VEVENT
BEGIN:VEVENT
DTSTART;TZID=America/Los_Angeles:20260103T180000
DTEND;TZID=America/Los_Angeles:20260103T220000
DTSTAMP:20260419T120615
CREATED:20251218T062819Z
LAST-MODIFIED:20260101T062830Z
UID:12846-1767463200-1767477600@achalet.com
SUMMARY:DragonWolfe
DESCRIPTION:
URL:https://achalet.com/event/band-tba/
LOCATION:Wyatt’s Grill & Saloon\, 42900 Big Bear Blvd\, Big Bear City\, CA\, United States
END:VEVENT
BEGIN:VEVENT
DTSTART;TZID=America/Los_Angeles:20260103T160000
DTEND;TZID=America/Los_Angeles:20260103T220000
DTSTAMP:20260419T120615
CREATED:20251218T062819Z
LAST-MODIFIED:20260101T062830Z
UID:12845-1767456000-1767477600@achalet.com
SUMMARY:Wyatt's Grill & Saloon With Dining\,Take-Out/Delivery\, & Live Music
DESCRIPTION:
URL:https://achalet.com/event/wyatts-grill-saloon-with-diningtake-out-delivery-live-music-24/
LOCATION:Wyatt’s Grill & Saloon\, 42900 Big Bear Blvd\, Big Bear City\, CA\, United States
END:VEVENT
BEGIN:VEVENT
DTSTART;TZID=America/Los_Angeles:20260102T180000
DTEND;TZID=America/Los_Angeles:20260102T220000
DTSTAMP:20260419T120615
CREATED:20251218T062819Z
LAST-MODIFIED:20260101T062830Z
UID:12844-1767376800-1767391200@achalet.com
SUMMARY:Winslow Band
DESCRIPTION:
URL:https://achalet.com/event/winslow-band/
LOCATION:Wyatt’s Grill & Saloon\, 42900 Big Bear Blvd\, Big Bear City\, CA\, United States
END:VEVENT
BEGIN:VEVENT
DTSTART;TZID=America/Los_Angeles:20260102T160000
DTEND;TZID=America/Los_Angeles:20260102T220000
DTSTAMP:20260419T120615
CREATED:20251218T062818Z
LAST-MODIFIED:20260101T062830Z
UID:12843-1767369600-1767391200@achalet.com
SUMMARY:Wyatt's Grill & Saloon With Dining\,Take-Out/Delivery\, & Live Music
DESCRIPTION:
URL:https://achalet.com/event/wyatts-grill-saloon-with-diningtake-out-delivery-live-music-23/
LOCATION:Wyatt’s Grill & Saloon\, 42900 Big Bear Blvd\, Big Bear City\, CA\, United States
END:VEVENT
BEGIN:VEVENT
DTSTART;TZID=America/Los_Angeles:20260101T060000
DTEND;TZID=America/Los_Angeles:20260101T233000
DTSTAMP:20260419T120615
CREATED:20251218T062818Z
LAST-MODIFIED:20260101T062830Z
UID:12842-1767247200-1767310200@achalet.com
SUMMARY:***WYATT'S CLOSED***
DESCRIPTION:
URL:https://achalet.com/event/wyatts-closed-6/
LOCATION:Wyatt’s Grill & Saloon\, 42900 Big Bear Blvd\, Big Bear City\, CA\, United States
END:VEVENT
BEGIN:VEVENT
DTSTART;TZID=America/Los_Angeles:20251231T200000
DTEND;TZID=America/Los_Angeles:20260101T010000
DTSTAMP:20260419T120615
CREATED:20251218T062818Z
LAST-MODIFIED:20260101T062830Z
UID:12841-1767211200-1767229200@achalet.com
SUMMARY:Doo Wah Riders
DESCRIPTION:
URL:https://achalet.com/event/doo-wah-riders/
LOCATION:Wyatt’s Grill & Saloon\, 42900 Big Bear Blvd\, Big Bear City\, CA\, United States
END:VEVENT
BEGIN:VEVENT
DTSTART;TZID=America/Los_Angeles:20251231T170000
DTEND;TZID=America/Los_Angeles:20260101T020000
DTSTAMP:20260419T120615
CREATED:20251218T062818Z
LAST-MODIFIED:20260101T062830Z
UID:12840-1767200400-1767232800@achalet.com
SUMMARY:Wyatt's New Year's Celebration
DESCRIPTION:
URL:https://achalet.com/event/wyatts-new-years-celebration/
LOCATION:Wyatt’s Grill & Saloon\, 42900 Big Bear Blvd\, Big Bear City\, CA\, United States
END:VEVENT
BEGIN:VEVENT
DTSTART;TZID=America/Los_Angeles:20251231T170000
DTEND;TZID=America/Los_Angeles:20251231T193000
DTSTAMP:20260419T120615
CREATED:20251218T062818Z
LAST-MODIFIED:20251225T062821Z
UID:12839-1767200400-1767209400@achalet.com
SUMMARY:Southern Spirit
DESCRIPTION:
URL:https://achalet.com/event/southern-spirit-6/
LOCATION:Wyatt’s Grill & Saloon\, 42900 Big Bear Blvd\, Big Bear City\, CA\, United States
END:VEVENT
BEGIN:VEVENT
DTSTART;TZID=America/Los_Angeles:20251228T180000
DTEND;TZID=America/Los_Angeles:20251228T220000
DTSTAMP:20260419T120615
CREATED:20251218T062817Z
LAST-MODIFIED:20251225T062821Z
UID:12837-1766944800-1766959200@achalet.com
SUMMARY:DragonWolfe
DESCRIPTION:
URL:https://achalet.com/event/dragonwolfe-5/
LOCATION:Wyatt’s Grill & Saloon\, 42900 Big Bear Blvd\, Big Bear City\, CA\, United States
END:VEVENT
BEGIN:VEVENT
DTSTART;TZID=America/Los_Angeles:20251228T160000
DTEND;TZID=America/Los_Angeles:20251228T220000
DTSTAMP:20260419T120615
CREATED:20251218T062818Z
LAST-MODIFIED:20251225T062821Z
UID:12838-1766937600-1766959200@achalet.com
SUMMARY:Wyatt's Grill & Saloon With Dining\,Take-Out/Delivery\, & Live Music
DESCRIPTION:
URL:https://achalet.com/event/wyatts-grill-saloon-with-diningtake-out-delivery-live-music-22/
LOCATION:Wyatt’s Grill & Saloon\, 42900 Big Bear Blvd\, Big Bear City\, CA\, United States
END:VEVENT
BEGIN:VEVENT
DTSTART;TZID=America/Los_Angeles:20251227T180000
DTEND;TZID=America/Los_Angeles:20251227T220000
DTSTAMP:20260419T120615
CREATED:20251204T062840Z
LAST-MODIFIED:20251225T062821Z
UID:12821-1766858400-1766872800@achalet.com
SUMMARY:Southern Spirit
DESCRIPTION:
URL:https://achalet.com/event/southern-spirit-5/
LOCATION:Wyatt’s Grill & Saloon\, 42900 Big Bear Blvd\, Big Bear City\, CA\, United States
END:VEVENT
BEGIN:VEVENT
DTSTART;TZID=America/Los_Angeles:20251227T160000
DTEND;TZID=America/Los_Angeles:20251227T220000
DTSTAMP:20260419T120615
CREATED:20251106T062810Z
LAST-MODIFIED:20251225T062821Z
UID:12747-1766851200-1766872800@achalet.com
SUMMARY:Wyatt's Grill & Saloon With Dining\,Take-Out/Delivery\, & Live Music
DESCRIPTION:
URL:https://achalet.com/event/wyatts-grill-saloon-with-diningtake-out-delivery-live-music-20/
LOCATION:Wyatt’s Grill & Saloon\, 42900 Big Bear Blvd\, Big Bear City\, CA\, United States
END:VEVENT
BEGIN:VEVENT
DTSTART;TZID=America/Los_Angeles:20251226T180000
DTEND;TZID=America/Los_Angeles:20251226T220000
DTSTAMP:20260419T120615
CREATED:20251204T062840Z
LAST-MODIFIED:20251225T062821Z
UID:12820-1766772000-1766786400@achalet.com
SUMMARY:Southern Spirit
DESCRIPTION:
URL:https://achalet.com/event/southern-spirit-4/
LOCATION:Wyatt’s Grill & Saloon\, 42900 Big Bear Blvd\, Big Bear City\, CA\, United States
END:VEVENT
BEGIN:VEVENT
DTSTART;TZID=America/Los_Angeles:20251226T160000
DTEND;TZID=America/Los_Angeles:20251226T220000
DTSTAMP:20260419T120615
CREATED:20251127T062853Z
LAST-MODIFIED:20251225T062821Z
UID:12800-1766764800-1766786400@achalet.com
SUMMARY:Wyatt's Grill & Saloon With Dining\,Take-Out/Delivery\, & Live Music
DESCRIPTION:
URL:https://achalet.com/event/wyatts-grill-saloon-with-diningtake-out-delivery-live-music-21/
LOCATION:Wyatt’s Grill & Saloon\, 42900 Big Bear Blvd\, Big Bear City\, CA\, United States
END:VEVENT
END:VCALENDAR