BEGIN:VCALENDAR
VERSION:2.0
PRODID:-//A-Chalet - ECPv6.15.20//NONSGML v1.0//EN
CALSCALE:GREGORIAN
METHOD:PUBLISH
X-WR-CALNAME:A-Chalet
X-ORIGINAL-URL:https://achalet.com
X-WR-CALDESC:Events for A-Chalet
REFRESH-INTERVAL;VALUE=DURATION:PT1H
X-Robots-Tag:noindex
X-PUBLISHED-TTL:PT1H
BEGIN:VTIMEZONE
TZID:America/Los_Angeles
BEGIN:DAYLIGHT
TZOFFSETFROM:-0800
TZOFFSETTO:-0700
TZNAME:PDT
DTSTART:20240310T100000
END:DAYLIGHT
BEGIN:STANDARD
TZOFFSETFROM:-0700
TZOFFSETTO:-0800
TZNAME:PST
DTSTART:20241103T090000
END:STANDARD
BEGIN:DAYLIGHT
TZOFFSETFROM:-0800
TZOFFSETTO:-0700
TZNAME:PDT
DTSTART:20250309T100000
END:DAYLIGHT
BEGIN:STANDARD
TZOFFSETFROM:-0700
TZOFFSETTO:-0800
TZNAME:PST
DTSTART:20251102T090000
END:STANDARD
BEGIN:DAYLIGHT
TZOFFSETFROM:-0800
TZOFFSETTO:-0700
TZNAME:PDT
DTSTART:20260308T100000
END:DAYLIGHT
BEGIN:STANDARD
TZOFFSETFROM:-0700
TZOFFSETTO:-0800
TZNAME:PST
DTSTART:20261101T090000
END:STANDARD
END:VTIMEZONE
BEGIN:VEVENT
DTSTART;TZID=America/Los_Angeles:20251119T183000
DTEND;TZID=America/Los_Angeles:20251119T213000
DTSTAMP:20260419T124717
CREATED:20251106T062807Z
LAST-MODIFIED:20251113T062809Z
UID:12729-1763577000-1763587800@achalet.com
SUMMARY:Free Line Dancing Lessons With Jennie
DESCRIPTION:
URL:https://achalet.com/event/free-line-dancing-lessons-with-jennie-2/
LOCATION:Wyatt’s Grill & Saloon\, 42900 Big Bear Blvd\, Big Bear City\, CA\, United States
END:VEVENT
BEGIN:VEVENT
DTSTART;TZID=America/Los_Angeles:20251119T160000
DTEND;TZID=America/Los_Angeles:20251119T220000
DTSTAMP:20260419T124717
CREATED:20250925T061343Z
LAST-MODIFIED:20251113T062809Z
UID:12634-1763568000-1763589600@achalet.com
SUMMARY:Wyatt's Country Dancing and Lessons
DESCRIPTION:Join us for Wyatt’s Country dancing with a Live DJ and Lessons taught through the night. (A Local’s Favorite)\nEnjoy food\, drinks\, and a fun atmosphere suitable for all ages.\nBring the whole family or become a part of ours!
URL:https://achalet.com/event/wyatts-country-dancing-and-lessons-13/
LOCATION:Wyatt’s Grill & Saloon\, 42900 Big Bear Blvd\, Big Bear City\, CA\, United States
END:VEVENT
BEGIN:VEVENT
DTSTART;TZID=America/Los_Angeles:20251115T180000
DTEND;TZID=America/Los_Angeles:20251115T220000
DTSTAMP:20260419T124717
CREATED:20251113T062807Z
LAST-MODIFIED:20251113T062809Z
UID:12750-1763229600-1763244000@achalet.com
SUMMARY:Dragonwolfe
DESCRIPTION:
URL:https://achalet.com/event/dragonwolfe-2/
LOCATION:Wyatt’s Grill & Saloon\, 42900 Big Bear Blvd\, Big Bear City\, CA\, United States
END:VEVENT
BEGIN:VEVENT
DTSTART;TZID=America/Los_Angeles:20251115T160000
DTEND;TZID=America/Los_Angeles:20251115T220000
DTSTAMP:20260419T124717
CREATED:20251106T062807Z
LAST-MODIFIED:20251113T062809Z
UID:12728-1763222400-1763244000@achalet.com
SUMMARY:Wyatt's Grill & Saloon With Dining\,Take-Out/Delivery\, & Live Music
DESCRIPTION:
URL:https://achalet.com/event/wyatts-grill-saloon-with-diningtake-out-delivery-live-music-9/
LOCATION:Wyatt’s Grill & Saloon\, 42900 Big Bear Blvd\, Big Bear City\, CA\, United States
END:VEVENT
BEGIN:VEVENT
DTSTART;TZID=America/Los_Angeles:20251114T180000
DTEND;TZID=America/Los_Angeles:20251114T220000
DTSTAMP:20260419T124717
CREATED:20251113T062807Z
LAST-MODIFIED:20251113T062809Z
UID:12749-1763143200-1763157600@achalet.com
SUMMARY:Street Music Band
DESCRIPTION:
URL:https://achalet.com/event/street-music-band/
LOCATION:Wyatt’s Grill & Saloon\, 42900 Big Bear Blvd\, Big Bear City\, CA\, United States
END:VEVENT
BEGIN:VEVENT
DTSTART;TZID=America/Los_Angeles:20251114T160000
DTEND;TZID=America/Los_Angeles:20251114T220000
DTSTAMP:20260419T124717
CREATED:20251106T062807Z
LAST-MODIFIED:20251113T062809Z
UID:12727-1763136000-1763157600@achalet.com
SUMMARY:Wyatt's Grill & Saloon With Dining\,Take-Out/Delivery\, & Live Music
DESCRIPTION:
URL:https://achalet.com/event/wyatts-grill-saloon-with-diningtake-out-delivery-live-music-8/
LOCATION:Wyatt’s Grill & Saloon\, 42900 Big Bear Blvd\, Big Bear City\, CA\, United States
END:VEVENT
BEGIN:VEVENT
DTSTART;TZID=America/Los_Angeles:20251112T183000
DTEND;TZID=America/Los_Angeles:20251112T213000
DTSTAMP:20260419T124717
CREATED:20251106T062807Z
LAST-MODIFIED:20251106T062809Z
UID:12726-1762972200-1762983000@achalet.com
SUMMARY:Free Line Dancing Lessons With Adia
DESCRIPTION:
URL:https://achalet.com/event/free-line-dancing-lessons-with-adia-4/
LOCATION:Wyatt’s Grill & Saloon\, 42900 Big Bear Blvd\, Big Bear City\, CA\, United States
END:VEVENT
BEGIN:VEVENT
DTSTART;TZID=America/Los_Angeles:20251112T160000
DTEND;TZID=America/Los_Angeles:20251112T220000
DTSTAMP:20260419T124717
CREATED:20250925T061343Z
LAST-MODIFIED:20251106T062809Z
UID:12633-1762963200-1762984800@achalet.com
SUMMARY:Wyatt's Country Dancing and Lessons
DESCRIPTION:Join us for Wyatt’s Country dancing with a Live DJ and Lessons taught through the night. (A Local’s Favorite)\nEnjoy food\, drinks\, and a fun atmosphere suitable for all ages.\nBring the whole family or become a part of ours!
URL:https://achalet.com/event/wyatts-country-dancing-and-lessons-12/
LOCATION:Wyatt’s Grill & Saloon\, 42900 Big Bear Blvd\, Big Bear City\, CA\, United States
END:VEVENT
BEGIN:VEVENT
DTSTART;TZID=America/Los_Angeles:20251108T160000
DTEND;TZID=America/Los_Angeles:20251227T220000
DTSTAMP:20260419T124717
CREATED:20250821T211504Z
LAST-MODIFIED:20250821T211504Z
UID:12501-1762617600-1766872800@achalet.com
SUMMARY:Wyatt's Honky Tonk Weekends
DESCRIPTION:FRIDAYS AND SATURDAYS \nWyatt’s Grill and Saloon is truly the simple place where the good folks of Big Bear gather. Join this friendly crew every Friday and Saturday (Saturdays are strictly country\, yeehaw!) for live music at 6 PM!  \nDoors open at 4 PM and full restaurant and bar will be open. \nAdmission is free. \n  \n \n\nAddress:42900 Big Bear BlvdBig Bear Lake\, California 92315Time: 16:00:00 to 22:00:00Location: Big Bear Convention CenterPhone: 909-585-3000Website:
URL:https://achalet.com/event/wyatts-honky-tonk-weekends-19/
LOCATION:CA
END:VEVENT
BEGIN:VEVENT
DTSTART;TZID=America/Los_Angeles:20251108T130000
DTEND;TZID=America/Los_Angeles:20251108T233000
DTSTAMP:20260419T124717
CREATED:20251009T061340Z
LAST-MODIFIED:20251106T062809Z
UID:12702-1762606800-1762644600@achalet.com
SUMMARY:55th Annual Big Bear Lake Oktoberfest
DESCRIPTION:
URL:https://achalet.com/event/55th-annual-big-bear-lake-oktoberfest-32/
LOCATION:Big Bear Lake Convention Center\, 42900 Big Bear Blvd\, Big Bear City\, CA\, United States
END:VEVENT
BEGIN:VEVENT
DTSTART;TZID=America/Los_Angeles:20251108T130000
DTEND;TZID=America/Los_Angeles:20251108T230000
DTSTAMP:20260419T124717
CREATED:20250925T061342Z
LAST-MODIFIED:20251002T061339Z
UID:12632-1762606800-1762642800@achalet.com
SUMMARY:55th Annual Big Bear Lake Oktoberfest
DESCRIPTION:
URL:https://achalet.com/event/55th-annual-big-bear-lake-oktoberfest-24/
LOCATION:Big Bear Lake Convention Center\, 42900 Big Bear Blvd\, Big Bear City\, CA\, United States
END:VEVENT
BEGIN:VEVENT
DTSTART;TZID=America/Los_Angeles:20251108T000000
DTEND;TZID=America/Los_Angeles:20251108T000000
DTSTAMP:20260419T124717
CREATED:20250821T211504Z
LAST-MODIFIED:20250821T211504Z
UID:12500-1762560000-1762560000@achalet.com
SUMMARY:Oktoberfest 2025
DESCRIPTION:Sept. 6 – Nov. 12\, 2025 \nLocated in the mountain town of Big Bear Lake\, this annual celebration has always been based on the lore of the world’s original Oktoberfest. Over the years\, the Big Bear Lake Oktoberfest has become world renown for its own traditions and old-world ambiance\, celebrating friends\, family and good times. A festival like no other\, guests are treated to authentic German entertainment; feast on Brats and Knockwursts direct from the German butcher; and enjoy the very same beers poured at Munich’s Oktoberfest for more than 150 years! \n \nEvent Schedule \n\nFridays (October Only): 5 p.m. – 11 p.m.\nSaturdays (September): 1 p.m. – 11 p.m.\nSaturdays (October): 1 p.m. – 12 a.m.\nSundays: 12 noon – 6 p.m.\n\n\nAddress:42900 Big Bear BlvdBig Bear City\, CaliforniaLocation: Big Bear Convention CenterPhone: 909-585-3000Website:
URL:https://achalet.com/event/oktoberfest-2025-14/
LOCATION:CA
END:VEVENT
BEGIN:VEVENT
DTSTART;TZID=America/Los_Angeles:20251107T160000
DTEND;TZID=America/Los_Angeles:20251227T220000
DTSTAMP:20260419T124717
CREATED:20250821T211503Z
LAST-MODIFIED:20250821T211503Z
UID:12498-1762531200-1766872800@achalet.com
SUMMARY:Wyatt's Honky Tonk Weekends
DESCRIPTION:FRIDAYS AND SATURDAYS \nWyatt’s Grill and Saloon is truly the simple place where the good folks of Big Bear gather. Join this friendly crew every Friday and Saturday (Saturdays are strictly country\, yeehaw!) for live music at 6 PM!  \nDoors open at 4 PM and full restaurant and bar will be open. \nAdmission is free. \n  \n \n\nAddress:42900 Big Bear BlvdBig Bear Lake\, California 92315Time: 16:00:00 to 22:00:00Location: Big Bear Convention CenterPhone: 909-585-3000Website:
URL:https://achalet.com/event/wyatts-honky-tonk-weekends-18/
LOCATION:CA
END:VEVENT
BEGIN:VEVENT
DTSTART;TZID=America/Los_Angeles:20251105T160000
DTEND;TZID=America/Los_Angeles:20251224T233000
DTSTAMP:20260419T124717
CREATED:20250821T211457Z
LAST-MODIFIED:20250821T211458Z
UID:12491-1762358400-1766619000@achalet.com
SUMMARY:Wyatt's Country Wednesdays
DESCRIPTION:Throw on your cowboy hat every Wednesday! \nGroove to country tunes every Wednesday evening at Wyatt’s Grill & Saloon! Join in the line dancing and jump in on free lessons throughout the evening. Enjoy the friendly atmosphere and ranch style grub!  \nDoors open at 4 PM and country dancing begins at 6 PM. \nAdmission is free. \n  \n\nAddress:42900 Big Bear Blvd.Big Bear Lake\, California 92315Time: 16:00:00 to 23:30:00Location: Big Bear Convention CenterPhone: 909-585-3000Website:
URL:https://achalet.com/event/wyatts-country-wednesdays-10/
LOCATION:CA
CATEGORIES:Outdoor Activities
END:VEVENT
BEGIN:VEVENT
DTSTART;TZID=America/Los_Angeles:20251105T160000
DTEND;TZID=America/Los_Angeles:20251105T220000
DTSTAMP:20260419T124717
CREATED:20250925T061342Z
LAST-MODIFIED:20251030T062815Z
UID:12631-1762358400-1762380000@achalet.com
SUMMARY:Wyatt's Country Dancing and Lessons
DESCRIPTION:Join us for Wyatt’s Country dancing with a Live DJ and Lessons taught through the night. (A Local’s Favorite)\nEnjoy food\, drinks\, and a fun atmosphere suitable for all ages.\nBring the whole family or become a part of ours!
URL:https://achalet.com/event/wyatts-country-dancing-and-lessons-11/
LOCATION:Wyatt’s Grill & Saloon\, 42900 Big Bear Blvd\, Big Bear City\, CA\, United States
END:VEVENT
BEGIN:VEVENT
DTSTART;TZID=America/Los_Angeles:20251102T120000
DTEND;TZID=America/Los_Angeles:20251102T180000
DTSTAMP:20260419T124717
CREATED:20250925T061342Z
LAST-MODIFIED:20251030T062815Z
UID:12630-1762084800-1762106400@achalet.com
SUMMARY:55th Annual Big Bear Lake Oktoberfest
DESCRIPTION:
URL:https://achalet.com/event/55th-annual-big-bear-lake-oktoberfest-23/
LOCATION:Big Bear Lake Convention Center\, 42900 Big Bear Blvd\, Big Bear City\, CA\, United States
END:VEVENT
BEGIN:VEVENT
DTSTART;TZID=America/Los_Angeles:20251102T000000
DTEND;TZID=America/Los_Angeles:20251108T000000
DTSTAMP:20260419T124717
CREATED:20250821T211456Z
LAST-MODIFIED:20250821T211458Z
UID:12489-1762041600-1762560000@achalet.com
SUMMARY:Oktoberfest 2025
DESCRIPTION:Sept. 6 – Nov. 12\, 2025 \nLocated in the mountain town of Big Bear Lake\, this annual celebration has always been based on the lore of the world’s original Oktoberfest. Over the years\, the Big Bear Lake Oktoberfest has become world renown for its own traditions and old-world ambiance\, celebrating friends\, family and good times. A festival like no other\, guests are treated to authentic German entertainment; feast on Brats and Knockwursts direct from the German butcher; and enjoy the very same beers poured at Munich’s Oktoberfest for more than 150 years! \n \nEvent Schedule \n\nFridays (October Only): 5 p.m. – 11 p.m.\nSaturdays (September): 1 p.m. – 11 p.m.\nSaturdays (October): 1 p.m. – 12 a.m.\nSundays: 12 noon – 6 p.m.\n\n\nAddress:42900 Big Bear BlvdBig Bear City\, CaliforniaLocation: Big Bear Convention CenterPhone: 909-585-3000Website:
URL:https://achalet.com/event/oktoberfest-2025-13/
LOCATION:CA
CATEGORIES:Outdoor Activities
END:VEVENT
BEGIN:VEVENT
DTSTART;TZID=America/Los_Angeles:20251101T160000
DTEND;TZID=America/Los_Angeles:20251227T220000
DTSTAMP:20260419T124717
CREATED:20250821T211456Z
LAST-MODIFIED:20250821T211458Z
UID:12488-1762012800-1766872800@achalet.com
SUMMARY:Wyatt's Honky Tonk Weekends
DESCRIPTION:FRIDAYS AND SATURDAYS \nWyatt™s Grill and Saloon is truly the simple place where the good folks of Big Bear gather. Join this friendly crew every Friday and Saturday (Saturdays are strictly country\, yeehaw!) for live music at 6 PM!  \nDoors open at 4 PM and full restaurant and bar will be open. \nAdmission is free. \n  \n \n\nAddress:42900 Big Bear BlvdBig Bear Lake\, California 92315Time: 16:00:00 to 22:00:00Location: Big Bear Convention CenterPhone: 909-585-3000Website:
URL:https://achalet.com/event/wyatts-honky-tonk-weekends-17/
LOCATION:CA
CATEGORIES:Outdoor Activities
END:VEVENT
BEGIN:VEVENT
DTSTART;TZID=America/Los_Angeles:20251101T130000
DTEND;TZID=America/Los_Angeles:20251101T233000
DTSTAMP:20260419T124717
CREATED:20251009T061339Z
LAST-MODIFIED:20251030T062814Z
UID:12701-1762002000-1762039800@achalet.com
SUMMARY:55th Annual Big Bear Lake Oktoberfest
DESCRIPTION:
URL:https://achalet.com/event/55th-annual-big-bear-lake-oktoberfest-31/
LOCATION:Big Bear Lake Convention Center\, 42900 Big Bear Blvd\, Big Bear City\, CA\, United States
END:VEVENT
BEGIN:VEVENT
DTSTART;TZID=America/Los_Angeles:20251101T130000
DTEND;TZID=America/Los_Angeles:20251101T230000
DTSTAMP:20260419T124717
CREATED:20250925T061342Z
LAST-MODIFIED:20251002T061339Z
UID:12629-1762002000-1762038000@achalet.com
SUMMARY:55th Annual Big Bear Lake Oktoberfest
DESCRIPTION:
URL:https://achalet.com/event/55th-annual-big-bear-lake-oktoberfest-22/
LOCATION:Big Bear Lake Convention Center\, 42900 Big Bear Blvd\, Big Bear City\, CA\, United States
END:VEVENT
BEGIN:VEVENT
DTSTART;TZID=America/Los_Angeles:20251101T000000
DTEND;TZID=America/Los_Angeles:20251108T000000
DTSTAMP:20260419T124717
CREATED:20250821T211456Z
LAST-MODIFIED:20250821T211458Z
UID:12487-1761955200-1762560000@achalet.com
SUMMARY:Oktoberfest 2025
DESCRIPTION:Sept. 6 – Nov. 12\, 2025 \nLocated in the mountain town of Big Bear Lake\, this annual celebration has always been based on the lore of the world™s original Oktoberfest. Over the years\, the Big Bear Lake Oktoberfest has become world renown for its own traditions and old-world ambiance\, celebrating friends\, family and good times. A festival like no other\, guests are treated to authentic German entertainment; feast on Brats and Knockwursts direct from the German butcher; and enjoy the very same beers poured at Munich™s Oktoberfest for more than 150 years! \n \nEvent Schedule \n\nFridays (October Only): 5 p.m. “ 11 p.m.\nSaturdays (September): 1 p.m. “ 11 p.m.\nSaturdays (October): 1 p.m. “ 12 a.m.\nSundays: 12 noon “ 6 p.m.\n\n\nAddress:42900 Big Bear BlvdBig Bear City\, CaliforniaLocation: Big Bear Convention CenterPhone: 909-585-3000Website:
URL:https://achalet.com/event/oktoberfest-2025-12/
LOCATION:CA
CATEGORIES:Outdoor Activities
END:VEVENT
BEGIN:VEVENT
DTSTART;TZID=America/Los_Angeles:20251031T160000
DTEND;TZID=America/Los_Angeles:20251031T230000
DTSTAMP:20260419T124717
CREATED:20250918T061320Z
LAST-MODIFIED:20251002T061339Z
UID:12614-1761926400-1761951600@achalet.com
SUMMARY:55th Annual Big Bear Lake Oktoberfest
DESCRIPTION:
URL:https://achalet.com/event/55th-annual-big-bear-lake-oktoberfest-21/
LOCATION:Big Bear Lake Convention Center\, 42900 Big Bear Blvd\, Big Bear City\, CA\, United States
END:VEVENT
BEGIN:VEVENT
DTSTART;TZID=America/Los_Angeles:20251029T183000
DTEND;TZID=America/Los_Angeles:20251029T213000
DTSTAMP:20260419T124717
CREATED:20251002T061312Z
LAST-MODIFIED:20251023T062426Z
UID:12643-1761762600-1761773400@achalet.com
SUMMARY:Free Line Dancing Lessons With Adia
DESCRIPTION:
URL:https://achalet.com/event/free-line-dancing-lessons-with-adia-3/
LOCATION:Wyatt’s Grill & Saloon\, 42900 Big Bear Blvd\, Big Bear City\, CA\, United States
END:VEVENT
BEGIN:VEVENT
DTSTART;TZID=America/Los_Angeles:20251029T160000
DTEND;TZID=America/Los_Angeles:20251029T220000
DTSTAMP:20260419T124717
CREATED:20250918T061320Z
LAST-MODIFIED:20251023T062426Z
UID:12613-1761753600-1761775200@achalet.com
SUMMARY:Wyatt's Country Dancing and Lessons
DESCRIPTION:Join us for Wyatt’s Country dancing with a Live DJ and Lessons taught through the night. (A Local’s Favorite)\nEnjoy food\, drinks\, and a fun atmosphere suitable for all ages.\nBring the whole family or become a part of ours!
URL:https://achalet.com/event/wyatts-country-dancing-and-lessons-10/
LOCATION:Wyatt’s Grill & Saloon\, 42900 Big Bear Blvd\, Big Bear City\, CA\, United States
END:VEVENT
BEGIN:VEVENT
DTSTART;TZID=America/Los_Angeles:20251026T120000
DTEND;TZID=America/Los_Angeles:20251026T180000
DTSTAMP:20260419T124717
CREATED:20250918T061320Z
LAST-MODIFIED:20251023T062426Z
UID:12612-1761480000-1761501600@achalet.com
SUMMARY:55th Annual Big Bear Lake Oktoberfest
DESCRIPTION:
URL:https://achalet.com/event/55th-annual-big-bear-lake-oktoberfest-20/
LOCATION:Big Bear Lake Convention Center\, 42900 Big Bear Blvd\, Big Bear City\, CA\, United States
END:VEVENT
BEGIN:VEVENT
DTSTART;TZID=America/Los_Angeles:20251025T130000
DTEND;TZID=America/Los_Angeles:20251025T233000
DTSTAMP:20260419T124717
CREATED:20251009T061339Z
LAST-MODIFIED:20251023T062426Z
UID:12700-1761397200-1761435000@achalet.com
SUMMARY:55th Annual Big Bear Lake Oktoberfest
DESCRIPTION:
URL:https://achalet.com/event/55th-annual-big-bear-lake-oktoberfest-30/
LOCATION:Big Bear Lake Convention Center\, 42900 Big Bear Blvd\, Big Bear City\, CA\, United States
END:VEVENT
BEGIN:VEVENT
DTSTART;TZID=America/Los_Angeles:20251025T130000
DTEND;TZID=America/Los_Angeles:20251025T230000
DTSTAMP:20260419T124717
CREATED:20250918T061320Z
LAST-MODIFIED:20251002T061326Z
UID:12611-1761397200-1761433200@achalet.com
SUMMARY:55th Annual Big Bear Lake Oktoberfest
DESCRIPTION:
URL:https://achalet.com/event/55th-annual-big-bear-lake-oktoberfest-19/
LOCATION:Big Bear Lake Convention Center\, 42900 Big Bear Blvd\, Big Bear City\, CA\, United States
END:VEVENT
BEGIN:VEVENT
DTSTART;TZID=America/Los_Angeles:20251024T170000
DTEND;TZID=America/Los_Angeles:20251024T230000
DTSTAMP:20260419T124717
CREATED:20251009T061339Z
LAST-MODIFIED:20251023T062426Z
UID:12699-1761325200-1761346800@achalet.com
SUMMARY:55th Annual Big Bear Lake Oktoberfest
DESCRIPTION:
URL:https://achalet.com/event/55th-annual-big-bear-lake-oktoberfest-29/
LOCATION:Big Bear Lake Convention Center\, 42900 Big Bear Blvd\, Big Bear City\, CA\, United States
END:VEVENT
BEGIN:VEVENT
DTSTART;TZID=America/Los_Angeles:20251024T160000
DTEND;TZID=America/Los_Angeles:20251024T230000
DTSTAMP:20260419T124717
CREATED:20250918T061320Z
LAST-MODIFIED:20251002T061326Z
UID:12610-1761321600-1761346800@achalet.com
SUMMARY:55th Annual Big Bear Lake Oktoberfest
DESCRIPTION:
URL:https://achalet.com/event/55th-annual-big-bear-lake-oktoberfest-18/
LOCATION:Big Bear Lake Convention Center\, 42900 Big Bear Blvd\, Big Bear City\, CA\, United States
END:VEVENT
BEGIN:VEVENT
DTSTART;TZID=America/Los_Angeles:20251022T183000
DTEND;TZID=America/Los_Angeles:20251022T213000
DTSTAMP:20260419T124717
CREATED:20251002T061311Z
LAST-MODIFIED:20251016T061828Z
UID:12642-1761157800-1761168600@achalet.com
SUMMARY:Free Line Dancing Lessons With Jennie
DESCRIPTION:
URL:https://achalet.com/event/free-line-dancing-lessons-with-jennie/
LOCATION:Wyatt’s Grill & Saloon\, 42900 Big Bear Blvd\, Big Bear City\, CA\, United States
END:VEVENT
END:VCALENDAR