BEGIN:VCALENDAR
VERSION:2.0
PRODID:-//A-Chalet - ECPv6.15.20//NONSGML v1.0//EN
CALSCALE:GREGORIAN
METHOD:PUBLISH
X-ORIGINAL-URL:https://achalet.com
X-WR-CALDESC:Events for A-Chalet
REFRESH-INTERVAL;VALUE=DURATION:PT1H
X-Robots-Tag:noindex
X-PUBLISHED-TTL:PT1H
BEGIN:VTIMEZONE
TZID:America/Los_Angeles
BEGIN:DAYLIGHT
TZOFFSETFROM:-0800
TZOFFSETTO:-0700
TZNAME:PDT
DTSTART:20240310T100000
END:DAYLIGHT
BEGIN:STANDARD
TZOFFSETFROM:-0700
TZOFFSETTO:-0800
TZNAME:PST
DTSTART:20241103T090000
END:STANDARD
BEGIN:DAYLIGHT
TZOFFSETFROM:-0800
TZOFFSETTO:-0700
TZNAME:PDT
DTSTART:20250309T100000
END:DAYLIGHT
BEGIN:STANDARD
TZOFFSETFROM:-0700
TZOFFSETTO:-0800
TZNAME:PST
DTSTART:20251102T090000
END:STANDARD
BEGIN:DAYLIGHT
TZOFFSETFROM:-0800
TZOFFSETTO:-0700
TZNAME:PDT
DTSTART:20260308T100000
END:DAYLIGHT
BEGIN:STANDARD
TZOFFSETFROM:-0700
TZOFFSETTO:-0800
TZNAME:PST
DTSTART:20261101T090000
END:STANDARD
BEGIN:DAYLIGHT
TZOFFSETFROM:-0800
TZOFFSETTO:-0700
TZNAME:PDT
DTSTART:20270314T100000
END:DAYLIGHT
BEGIN:STANDARD
TZOFFSETFROM:-0700
TZOFFSETTO:-0800
TZNAME:PST
DTSTART:20271107T090000
END:STANDARD
END:VTIMEZONE
BEGIN:VEVENT
DTSTART;TZID=America/Los_Angeles:20250913T180000
DTEND;TZID=America/Los_Angeles:20260221T210000
DTSTAMP:20260419T103626
CREATED:20250821T211257Z
LAST-MODIFIED:20250821T211257Z
UID:12413-1757786400-1771707600@achalet.com
SUMMARY:Live Music at Chateau Big Bear
DESCRIPTION:Chateau Big Bear has a rich history in the performing arts! Back in the late ’80s and early ’90s\, we hosted everything from Madame Butterfly and Othello to unforgettable disco parties. Stop by and make history. \nMike Cross and Big Bear’s favorite artists will be playing under the dome every Friday and Saturday from 6pm till 9pm. \n\nAddress:42200 Moonridge RdBig Bear Lake\, California 92315Time: 18:00:00 to 21:00:00Location: Chateau Big BearContact: Dennis SantopietroPhone: 909-866-6666Website:
URL:https://achalet.com/event/live-music-at-chateau-big-bear-8/
LOCATION:CA
END:VEVENT
BEGIN:VEVENT
DTSTART;TZID=America/Los_Angeles:20250916T000000
DTEND;TZID=America/Los_Angeles:20260217T125900
DTSTAMP:20260419T103626
CREATED:20250821T211304Z
LAST-MODIFIED:20250821T211304Z
UID:12419-1757980800-1771333140@achalet.com
SUMMARY:2025 Liberty Lyfts
DESCRIPTION:Celebrate the 4th of July safely with a free Lyft ride from Lone Star Injury Attorneys! \nTo help you enjoy America’s birthday responsibly\, we’re giving away free Lyft ride passes as part of our Liberty Lyfts initiative! However you’re celebrating\, we want you to get home safely.  \n \nOne ride pass can be claimed per person. Share this offer with your friends and family and help us keep the roads safe. Don’t wait\, as sign-ups close soon on July 3rd. Visit our website now to claim your free ride! \n\nTime: 00:00:00 to 12:59:00Contact: Max PaderewskiPhone: (832) 770-6438Website:
URL:https://achalet.com/event/2025-liberty-lyfts-4/
LOCATION:CA
END:VEVENT
BEGIN:VEVENT
DTSTART;TZID=America/Los_Angeles:20250919T180000
DTEND;TZID=America/Los_Angeles:20260221T210000
DTSTAMP:20260419T103626
CREATED:20250821T211305Z
LAST-MODIFIED:20250821T211305Z
UID:12422-1758304800-1771707600@achalet.com
SUMMARY:Live Music at Chateau Big Bear
DESCRIPTION:Chateau Big Bear has a rich history in the performing arts! Back in the late ’80s and early ’90s\, we hosted everything from Madame Butterfly and Othello to unforgettable disco parties. Stop by and make history. \nMike Cross and Big Bear’s favorite artists will be playing under the dome every Friday and Saturday from 6pm till 9pm. \n\nAddress:42200 Moonridge RdBig Bear Lake\, California 92315Time: 18:00:00 to 21:00:00Location: Chateau Big BearContact: Dennis SantopietroPhone: 909-866-6666Website:
URL:https://achalet.com/event/live-music-at-chateau-big-bear-9/
LOCATION:CA
END:VEVENT
BEGIN:VEVENT
DTSTART;TZID=America/Los_Angeles:20250920T180000
DTEND;TZID=America/Los_Angeles:20260221T210000
DTSTAMP:20260419T103626
CREATED:20250821T211311Z
LAST-MODIFIED:20250821T211311Z
UID:12425-1758391200-1771707600@achalet.com
SUMMARY:Live Music at Chateau Big Bear
DESCRIPTION:Chateau Big Bear has a rich history in the performing arts! Back in the late ’80s and early ’90s\, we hosted everything from Madame Butterfly and Othello to unforgettable disco parties. Stop by and make history. \nMike Cross and Big Bear’s favorite artists will be playing under the dome every Friday and Saturday from 6pm till 9pm. \n\nAddress:42200 Moonridge RdBig Bear Lake\, California 92315Time: 18:00:00 to 21:00:00Location: Chateau Big BearContact: Dennis SantopietroPhone: 909-866-6666Website:
URL:https://achalet.com/event/live-music-at-chateau-big-bear-10/
LOCATION:CA
END:VEVENT
BEGIN:VEVENT
DTSTART;TZID=America/Los_Angeles:20250923T000000
DTEND;TZID=America/Los_Angeles:20260217T125900
DTSTAMP:20260419T103626
CREATED:20250821T211318Z
LAST-MODIFIED:20250821T211318Z
UID:12432-1758585600-1771333140@achalet.com
SUMMARY:2025 Liberty Lyfts
DESCRIPTION:Celebrate the 4th of July safely with a free Lyft ride from Lone Star Injury Attorneys! \nTo help you enjoy America’s birthday responsibly\, we’re giving away free Lyft ride passes as part of our Liberty Lyfts initiative! However you’re celebrating\, we want you to get home safely.  \n \nOne ride pass can be claimed per person. Share this offer with your friends and family and help us keep the roads safe. Don’t wait\, as sign-ups close soon on July 3rd. Visit our website now to claim your free ride! \n\nTime: 00:00:00 to 12:59:00Contact: Max PaderewskiPhone: (832) 770-6438Website:
URL:https://achalet.com/event/2025-liberty-lyfts-5/
LOCATION:CA
END:VEVENT
BEGIN:VEVENT
DTSTART;TZID=America/Los_Angeles:20250926T180000
DTEND;TZID=America/Los_Angeles:20260221T210000
DTSTAMP:20260419T103626
CREATED:20250821T211325Z
LAST-MODIFIED:20250821T211325Z
UID:12434-1758909600-1771707600@achalet.com
SUMMARY:Live Music at Chateau Big Bear
DESCRIPTION:Chateau Big Bear has a rich history in the performing arts! Back in the late ’80s and early ’90s\, we hosted everything from Madame Butterfly and Othello to unforgettable disco parties. Stop by and make history. \nMike Cross and Big Bear’s favorite artists will be playing under the dome every Friday and Saturday from 6pm till 9pm. \n\nAddress:42200 Moonridge RdBig Bear Lake\, California 92315Time: 18:00:00 to 21:00:00Location: Chateau Big BearContact: Dennis SantopietroPhone: 909-866-6666Website:
URL:https://achalet.com/event/live-music-at-chateau-big-bear-11/
LOCATION:CA
END:VEVENT
BEGIN:VEVENT
DTSTART;TZID=America/Los_Angeles:20250927T180000
DTEND;TZID=America/Los_Angeles:20260221T210000
DTSTAMP:20260419T103626
CREATED:20250821T211332Z
LAST-MODIFIED:20250821T211332Z
UID:12438-1758996000-1771707600@achalet.com
SUMMARY:Live Music at Chateau Big Bear
DESCRIPTION:Chateau Big Bear has a rich history in the performing arts! Back in the late ’80s and early ’90s\, we hosted everything from Madame Butterfly and Othello to unforgettable disco parties. Stop by and make history. \nMike Cross and Big Bear’s favorite artists will be playing under the dome every Friday and Saturday from 6pm till 9pm. \n\nAddress:42200 Moonridge RdBig Bear Lake\, California 92315Time: 18:00:00 to 21:00:00Location: Chateau Big BearContact: Dennis SantopietroPhone: 909-866-6666Website:
URL:https://achalet.com/event/live-music-at-chateau-big-bear-12/
LOCATION:CA
END:VEVENT
BEGIN:VEVENT
DTSTART;TZID=America/Los_Angeles:20250930T000000
DTEND;TZID=America/Los_Angeles:20260217T125900
DTSTAMP:20260419T103626
CREATED:20250821T211337Z
LAST-MODIFIED:20250821T211337Z
UID:12446-1759190400-1771333140@achalet.com
SUMMARY:2025 Liberty Lyfts
DESCRIPTION:Celebrate the 4th of July safely with a free Lyft ride from Lone Star Injury Attorneys! \nTo help you enjoy America’s birthday responsibly\, we’re giving away free Lyft ride passes as part of our Liberty Lyfts initiative! However you’re celebrating\, we want you to get home safely.  \n \nOne ride pass can be claimed per person. Share this offer with your friends and family and help us keep the roads safe. Don’t wait\, as sign-ups close soon on July 3rd. Visit our website now to claim your free ride! \n\nTime: 00:00:00 to 12:59:00Contact: Max PaderewskiPhone: (832) 770-6438Website:
URL:https://achalet.com/event/2025-liberty-lyfts-6/
LOCATION:CA
END:VEVENT
BEGIN:VEVENT
DTSTART;TZID=America/Los_Angeles:20251003T180000
DTEND;TZID=America/Los_Angeles:20260221T210000
DTSTAMP:20260419T103626
CREATED:20250821T211346Z
LAST-MODIFIED:20250821T211346Z
UID:12448-1759514400-1771707600@achalet.com
SUMMARY:Live Music at Chateau Big Bear
DESCRIPTION:Chateau Big Bear has a rich history in the performing arts! Back in the late ’80s and early ’90s\, we hosted everything from Madame Butterfly and Othello to unforgettable disco parties. Stop by and make history. \nMike Cross and Big Bear’s favorite artists will be playing under the dome every Friday and Saturday from 6pm till 9pm. \n\nAddress:42200 Moonridge RdBig Bear Lake\, California 92315Time: 18:00:00 to 21:00:00Location: Chateau Big BearContact: Dennis SantopietroPhone: 909-866-6666Website:
URL:https://achalet.com/event/live-music-at-chateau-big-bear-13/
LOCATION:CA
END:VEVENT
BEGIN:VEVENT
DTSTART;TZID=America/Los_Angeles:20251004T180000
DTEND;TZID=America/Los_Angeles:20260221T210000
DTSTAMP:20260419T103626
CREATED:20250821T211347Z
LAST-MODIFIED:20250821T211347Z
UID:12452-1759600800-1771707600@achalet.com
SUMMARY:Live Music at Chateau Big Bear
DESCRIPTION:Chateau Big Bear has a rich history in the performing arts! Back in the late ’80s and early ’90s\, we hosted everything from Madame Butterfly and Othello to unforgettable disco parties. Stop by and make history. \nMike Cross and Big Bear’s favorite artists will be playing under the dome every Friday and Saturday from 6pm till 9pm. \n\nAddress:42200 Moonridge RdBig Bear Lake\, California 92315Time: 18:00:00 to 21:00:00Location: Chateau Big BearContact: Dennis SantopietroPhone: 909-866-6666Website:
URL:https://achalet.com/event/live-music-at-chateau-big-bear-14/
LOCATION:CA
END:VEVENT
BEGIN:VEVENT
DTSTART;TZID=America/Los_Angeles:20251007T000000
DTEND;TZID=America/Los_Angeles:20260217T125900
DTSTAMP:20260419T103626
CREATED:20250821T211400Z
LAST-MODIFIED:20250821T211400Z
UID:12459-1759795200-1771333140@achalet.com
SUMMARY:2025 Liberty Lyfts
DESCRIPTION:Celebrate the 4th of July safely with a free Lyft ride from Lone Star Injury Attorneys! \nTo help you enjoy America’s birthday responsibly\, we’re giving away free Lyft ride passes as part of our Liberty Lyfts initiative! However you’re celebrating\, we want you to get home safely.  \n \nOne ride pass can be claimed per person. Share this offer with your friends and family and help us keep the roads safe. Don’t wait\, as sign-ups close soon on July 3rd. Visit our website now to claim your free ride! \n\nTime: 00:00:00 to 12:59:00Contact: Max PaderewskiPhone: (832) 770-6438Website:
URL:https://achalet.com/event/2025-liberty-lyfts-7/
LOCATION:CA
END:VEVENT
BEGIN:VEVENT
DTSTART;TZID=America/Los_Angeles:20251101T180000
DTEND;TZID=America/Los_Angeles:20260221T210000
DTSTAMP:20260419T103626
CREATED:20250821T211449Z
LAST-MODIFIED:20250821T211449Z
UID:12486-1762020000-1771707600@achalet.com
SUMMARY:Live Music at Chateau Big Bear
DESCRIPTION:Chateau Big Bear has a rich history in the performing arts! Back in the late ™80s and early ™90s\, we hosted everything from Madame Butterfly and Othello to unforgettable disco parties. Stop by and make history. \nMike Cross and Big Bear’s favorite artists will be playing under the dome every Friday and Saturday from 6pm till 9pm. \n\nAddress:42200 Moonridge RdBig Bear Lake\, California 92315Time: 18:00:00 to 21:00:00Location: Chateau Big BearContact: Dennis SantopietroPhone: 909-866-6666Website:
URL:https://achalet.com/event/live-music-at-chateau-big-bear-16/
LOCATION:CA
END:VEVENT
BEGIN:VEVENT
DTSTART;TZID=America/Los_Angeles:20251104T000000
DTEND;TZID=America/Los_Angeles:20260217T125900
DTSTAMP:20260419T103626
CREATED:20250821T211456Z
LAST-MODIFIED:20250821T211458Z
UID:12490-1762214400-1771333140@achalet.com
SUMMARY:2025 Liberty Lyfts
DESCRIPTION:Celebrate the 4th of July safely with a free Lyft ride from Lone Star Injury Attorneys! \nTo help you enjoy America’s birthday responsibly\, we’re giving away free Lyft ride passes as part of our Liberty Lyfts initiative! However you’re celebrating\, we want you to get home safely.  \n \nOne ride pass can be claimed per person. Share this offer with your friends and family and help us keep the roads safe. Don’t wait\, as sign-ups close soon on July 3rd. Visit our website now to claim your free ride! \n\nTime: 00:00:00 to 12:59:00Contact: Max PaderewskiPhone: (832) 770-6438Website:
URL:https://achalet.com/event/2025-liberty-lyfts-9/
LOCATION:CA
CATEGORIES:Outdoor Activities
END:VEVENT
BEGIN:VEVENT
DTSTART;TZID=America/Los_Angeles:20251107T180000
DTEND;TZID=America/Los_Angeles:20260221T210000
DTSTAMP:20260419T103626
CREATED:20250821T211503Z
LAST-MODIFIED:20250821T211503Z
UID:12497-1762538400-1771707600@achalet.com
SUMMARY:Live Music at Chateau Big Bear
DESCRIPTION:Chateau Big Bear has a rich history in the performing arts! Back in the late ™80s and early ™90s\, we hosted everything from Madame Butterfly and Othello to unforgettable disco parties. Stop by and make history. \nMike Cross and Big Bear’s favorite artists will be playing under the dome every Friday and Saturday from 6pm till 9pm. \n\nAddress:42200 Moonridge RdBig Bear Lake\, California 92315Time: 18:00:00 to 21:00:00Location: Chateau Big BearContact: Dennis SantopietroPhone: 909-866-6666Website:
URL:https://achalet.com/event/live-music-at-chateau-big-bear-17/
LOCATION:CA
END:VEVENT
BEGIN:VEVENT
DTSTART;TZID=America/Los_Angeles:20251108T180000
DTEND;TZID=America/Los_Angeles:20260221T210000
DTSTAMP:20260419T103626
CREATED:20250821T211503Z
LAST-MODIFIED:20250821T211503Z
UID:12499-1762624800-1771707600@achalet.com
SUMMARY:Live Music at Chateau Big Bear
DESCRIPTION:Chateau Big Bear has a rich history in the performing arts! Back in the late ’80s and early ’90s\, we hosted everything from Madame Butterfly and Othello to unforgettable disco parties. Stop by and make history. \nMike Cross and Big Bear’s favorite artists will be playing under the dome every Friday and Saturday from 6pm till 9pm. \n\nAddress:42200 Moonridge RdBig Bear Lake\, California 92315Time: 18:00:00 to 21:00:00Location: Chateau Big BearContact: Dennis SantopietroPhone: 909-866-6666Website:
URL:https://achalet.com/event/live-music-at-chateau-big-bear-18/
LOCATION:CA
END:VEVENT
BEGIN:VEVENT
DTSTART;TZID=America/Los_Angeles:20251202T000000
DTEND;TZID=America/Los_Angeles:20260217T125900
DTSTAMP:20260419T103626
CREATED:20250821T211536Z
LAST-MODIFIED:20250821T211536Z
UID:12510-1764633600-1771333140@achalet.com
SUMMARY:2025 Liberty Lyfts
DESCRIPTION:Celebrate the 4th of July safely with a free Lyft ride from Lone Star Injury Attorneys! \nTo help you enjoy America’s birthday responsibly\, we’re giving away free Lyft ride passes as part of our Liberty Lyfts initiative! However you’re celebrating\, we want you to get home safely.  \n \nOne ride pass can be claimed per person. Share this offer with your friends and family and help us keep the roads safe. Don’t wait\, as sign-ups close soon on July 3rd. Visit our website now to claim your free ride! \n\nTime: 00:00:00 to 12:59:00Contact: Max PaderewskiPhone: (832) 770-6438Website:
URL:https://achalet.com/event/2025-liberty-lyfts-10/
LOCATION:CA
END:VEVENT
BEGIN:VEVENT
DTSTART;TZID=America/Los_Angeles:20251205T180000
DTEND;TZID=America/Los_Angeles:20260221T210000
DTSTAMP:20260419T103626
CREATED:20250821T211536Z
LAST-MODIFIED:20250821T211536Z
UID:12512-1764957600-1771707600@achalet.com
SUMMARY:Live Music at Chateau Big Bear
DESCRIPTION:Chateau Big Bear has a rich history in the performing arts! Back in the late ™80s and early ™90s\, we hosted everything from Madame Butterfly and Othello to unforgettable disco parties. Stop by and make history. \nMike Cross and Big Bear’s favorite artists will be playing under the dome every Friday and Saturday from 6pm till 9pm. \n\nAddress:42200 Moonridge RdBig Bear Lake\, California 92315Time: 18:00:00 to 21:00:00Location: Chateau Big BearContact: Dennis SantopietroPhone: 909-866-6666Website:
URL:https://achalet.com/event/live-music-at-chateau-big-bear-19/
LOCATION:CA
END:VEVENT
BEGIN:VEVENT
DTSTART;TZID=America/Los_Angeles:20251206T180000
DTEND;TZID=America/Los_Angeles:20260221T210000
DTSTAMP:20260419T103626
CREATED:20250821T211537Z
LAST-MODIFIED:20250821T211537Z
UID:12514-1765044000-1771707600@achalet.com
SUMMARY:Live Music at Chateau Big Bear
DESCRIPTION:Chateau Big Bear has a rich history in the performing arts! Back in the late ’80s and early ’90s\, we hosted everything from Madame Butterfly and Othello to unforgettable disco parties. Stop by and make history. \nMike Cross and Big Bear’s favorite artists will be playing under the dome every Friday and Saturday from 6pm till 9pm. \n\nAddress:42200 Moonridge RdBig Bear Lake\, California 92315Time: 18:00:00 to 21:00:00Location: Chateau Big BearContact: Dennis SantopietroPhone: 909-866-6666Website:
URL:https://achalet.com/event/live-music-at-chateau-big-bear-20/
LOCATION:CA
END:VEVENT
BEGIN:VEVENT
DTSTART;TZID=America/Los_Angeles:20251209T000000
DTEND;TZID=America/Los_Angeles:20260217T125900
DTSTAMP:20260419T103626
CREATED:20250821T211545Z
LAST-MODIFIED:20250821T211545Z
UID:12516-1765238400-1771333140@achalet.com
SUMMARY:2025 Liberty Lyfts
DESCRIPTION:Celebrate the 4th of July safely with a free Lyft ride from Lone Star Injury Attorneys! \nTo help you enjoy America’s birthday responsibly\, we’re giving away free Lyft ride passes as part of our Liberty Lyfts initiative! However you’re celebrating\, we want you to get home safely.  \n \nOne ride pass can be claimed per person. Share this offer with your friends and family and help us keep the roads safe. Don’t wait\, as sign-ups close soon on July 3rd. Visit our website now to claim your free ride! \n\nTime: 00:00:00 to 12:59:00Contact: Max PaderewskiPhone: (832) 770-6438Website:
URL:https://achalet.com/event/2025-liberty-lyfts-11/
LOCATION:CA
END:VEVENT
BEGIN:VEVENT
DTSTART;TZID=America/Los_Angeles:20260204T160000
DTEND;TZID=America/Los_Angeles:20260204T220000
DTSTAMP:20260419T103626
CREATED:20260108T062825Z
LAST-MODIFIED:20260129T062842Z
UID:12914-1770220800-1770242400@achalet.com
SUMMARY:Wyatt's Grill & Saloon With Dining\,Take-Out/Delivery\, & Live Music
DESCRIPTION:
URL:https://achalet.com/event/wyatts-grill-saloon-with-diningtake-out-delivery-live-music-37/
LOCATION:Wyatt’s Grill & Saloon\, 42900 Big Bear Blvd\, Big Bear City\, CA\, United States
END:VEVENT
BEGIN:VEVENT
DTSTART;TZID=America/Los_Angeles:20260206T160000
DTEND;TZID=America/Los_Angeles:20260206T220000
DTSTAMP:20260419T103626
CREATED:20260205T062833Z
LAST-MODIFIED:20260205T062835Z
UID:12932-1770393600-1770415200@achalet.com
SUMMARY:Wyatt's Grill & Saloon With Dining\,Take-Out/Delivery\, & Live Music
DESCRIPTION:
URL:https://achalet.com/event/wyatts-grill-saloon-with-diningtake-out-delivery-live-music-38/
LOCATION:Wyatt’s Grill & Saloon\, 42900 Big Bear Blvd\, Big Bear City\, CA\, United States
END:VEVENT
BEGIN:VEVENT
DTSTART;TZID=America/Los_Angeles:20260207T160000
DTEND;TZID=America/Los_Angeles:20260207T220000
DTSTAMP:20260419T103626
CREATED:20260205T062833Z
LAST-MODIFIED:20260205T062835Z
UID:12933-1770480000-1770501600@achalet.com
SUMMARY:Wyatt's Grill & Saloon With Dining\,Take-Out/Delivery\, & Live Music
DESCRIPTION:
URL:https://achalet.com/event/wyatts-grill-saloon-with-diningtake-out-delivery-live-music-39/
LOCATION:Wyatt’s Grill & Saloon\, 42900 Big Bear Blvd\, Big Bear City\, CA\, United States
END:VEVENT
BEGIN:VEVENT
DTSTART;TZID=America/Los_Angeles:20260211T160000
DTEND;TZID=America/Los_Angeles:20260211T220000
DTSTAMP:20260419T103626
CREATED:20260205T062834Z
LAST-MODIFIED:20260205T062835Z
UID:12934-1770825600-1770847200@achalet.com
SUMMARY:Wyatt's Grill & Saloon With Dining\,Take-Out/Delivery\, & Live Music
DESCRIPTION:
URL:https://achalet.com/event/wyatts-grill-saloon-with-diningtake-out-delivery-live-music-40/
LOCATION:Wyatt’s Grill & Saloon\, 42900 Big Bear Blvd\, Big Bear City\, CA\, United States
END:VEVENT
BEGIN:VEVENT
DTSTART;TZID=America/Los_Angeles:20260213T160000
DTEND;TZID=America/Los_Angeles:20260213T220000
DTSTAMP:20260419T103626
CREATED:20260205T062834Z
LAST-MODIFIED:20260212T063030Z
UID:12935-1770998400-1771020000@achalet.com
SUMMARY:Wyatt's Grill & Saloon With Dining\,Take-Out/Delivery\, & Live Music
DESCRIPTION:
URL:https://achalet.com/event/wyatts-grill-saloon-with-diningtake-out-delivery-live-music-41/
LOCATION:Wyatt’s Grill & Saloon\, 42900 Big Bear Blvd\, Big Bear City\, CA\, United States
END:VEVENT
BEGIN:VEVENT
DTSTART;TZID=America/Los_Angeles:20260214T160000
DTEND;TZID=America/Los_Angeles:20260214T220000
DTSTAMP:20260419T103626
CREATED:20260205T062834Z
LAST-MODIFIED:20260212T063030Z
UID:12936-1771084800-1771106400@achalet.com
SUMMARY:Wyatt's Grill & Saloon With Dining\,Take-Out/Delivery\, & Live Music
DESCRIPTION:
URL:https://achalet.com/event/wyatts-grill-saloon-with-diningtake-out-delivery-live-music-42/
LOCATION:Wyatt’s Grill & Saloon\, 42900 Big Bear Blvd\, Big Bear City\, CA\, United States
END:VEVENT
BEGIN:VEVENT
DTSTART;TZID=America/Los_Angeles:20260218T160000
DTEND;TZID=America/Los_Angeles:20260218T220000
DTSTAMP:20260419T103626
CREATED:20260205T062834Z
LAST-MODIFIED:20260212T063030Z
UID:12937-1771430400-1771452000@achalet.com
SUMMARY:Wyatt's Grill & Saloon With Dining\,Take-Out/Delivery\, & Live Music
DESCRIPTION:
URL:https://achalet.com/event/wyatts-grill-saloon-with-diningtake-out-delivery-live-music-43/
LOCATION:Wyatt’s Grill & Saloon\, 42900 Big Bear Blvd\, Big Bear City\, CA\, United States
END:VEVENT
BEGIN:VEVENT
DTSTART;TZID=America/Los_Angeles:20260220T160000
DTEND;TZID=America/Los_Angeles:20260220T220000
DTSTAMP:20260419T103626
CREATED:20260205T062834Z
LAST-MODIFIED:20260219T062830Z
UID:12938-1771603200-1771624800@achalet.com
SUMMARY:Wyatt's Grill & Saloon With Dining\,Take-Out/Delivery\, & Live Music
DESCRIPTION:
URL:https://achalet.com/event/wyatts-grill-saloon-with-diningtake-out-delivery-live-music-44/
LOCATION:Wyatt’s Grill & Saloon\, 42900 Big Bear Blvd\, Big Bear City\, CA\, United States
END:VEVENT
BEGIN:VEVENT
DTSTART;TZID=America/Los_Angeles:20260221T160000
DTEND;TZID=America/Los_Angeles:20260221T220000
DTSTAMP:20260419T103626
CREATED:20260205T062834Z
LAST-MODIFIED:20260219T062830Z
UID:12939-1771689600-1771711200@achalet.com
SUMMARY:Wyatt's Grill & Saloon With Dining\,Take-Out/Delivery\, & Live Music
DESCRIPTION:
URL:https://achalet.com/event/wyatts-grill-saloon-with-diningtake-out-delivery-live-music-45/
LOCATION:Wyatt’s Grill & Saloon\, 42900 Big Bear Blvd\, Big Bear City\, CA\, United States
END:VEVENT
BEGIN:VEVENT
DTSTART;TZID=America/Los_Angeles:20260225T160000
DTEND;TZID=America/Los_Angeles:20260225T220000
DTSTAMP:20260419T103626
CREATED:20260205T062834Z
LAST-MODIFIED:20260219T062830Z
UID:12940-1772035200-1772056800@achalet.com
SUMMARY:Wyatt's Grill & Saloon With Dining\,Take-Out/Delivery\, & Live Music
DESCRIPTION:
URL:https://achalet.com/event/wyatts-grill-saloon-with-diningtake-out-delivery-live-music-46/
LOCATION:Wyatt’s Grill & Saloon\, 42900 Big Bear Blvd\, Big Bear City\, CA\, United States
END:VEVENT
BEGIN:VEVENT
DTSTART;TZID=America/Los_Angeles:20260227T160000
DTEND;TZID=America/Los_Angeles:20260227T220000
DTSTAMP:20260419T103626
CREATED:20260205T062834Z
LAST-MODIFIED:20260226T062819Z
UID:12941-1772208000-1772229600@achalet.com
SUMMARY:Wyatt's Grill & Saloon With Dining\,Take-Out/Delivery\, & Live Music
DESCRIPTION:
URL:https://achalet.com/event/wyatts-grill-saloon-with-diningtake-out-delivery-live-music-47/
LOCATION:Wyatt’s Grill & Saloon\, 42900 Big Bear Blvd\, Big Bear City\, CA\, United States
END:VEVENT
END:VCALENDAR