BEGIN:VCALENDAR
VERSION:2.0
PRODID:-//A-Chalet - ECPv6.15.20//NONSGML v1.0//EN
CALSCALE:GREGORIAN
METHOD:PUBLISH
X-WR-CALNAME:A-Chalet
X-ORIGINAL-URL:https://achalet.com
X-WR-CALDESC:Events for A-Chalet
REFRESH-INTERVAL;VALUE=DURATION:PT1H
X-Robots-Tag:noindex
X-PUBLISHED-TTL:PT1H
BEGIN:VTIMEZONE
TZID:America/Los_Angeles
BEGIN:DAYLIGHT
TZOFFSETFROM:-0800
TZOFFSETTO:-0700
TZNAME:PDT
DTSTART:20250309T100000
END:DAYLIGHT
BEGIN:STANDARD
TZOFFSETFROM:-0700
TZOFFSETTO:-0800
TZNAME:PST
DTSTART:20251102T090000
END:STANDARD
BEGIN:DAYLIGHT
TZOFFSETFROM:-0800
TZOFFSETTO:-0700
TZNAME:PDT
DTSTART:20260308T100000
END:DAYLIGHT
BEGIN:STANDARD
TZOFFSETFROM:-0700
TZOFFSETTO:-0800
TZNAME:PST
DTSTART:20261101T090000
END:STANDARD
BEGIN:DAYLIGHT
TZOFFSETFROM:-0800
TZOFFSETTO:-0700
TZNAME:PDT
DTSTART:20270314T100000
END:DAYLIGHT
BEGIN:STANDARD
TZOFFSETFROM:-0700
TZOFFSETTO:-0800
TZNAME:PST
DTSTART:20271107T090000
END:STANDARD
END:VTIMEZONE
BEGIN:VEVENT
DTSTART;TZID=America/Los_Angeles:20260529T160000
DTEND;TZID=America/Los_Angeles:20260529T220000
DTSTAMP:20260424T033531
CREATED:20260402T071321Z
LAST-MODIFIED:20260423T072815Z
UID:13069-1780070400-1780092000@achalet.com
SUMMARY:Wyatt's Grill & Saloon With Dining\,Take-Out/Delivery\, & Live Music
DESCRIPTION:
URL:https://achalet.com/event/wyatts-grill-saloon-with-diningtake-out-delivery-live-music-86/
LOCATION:Wyatt’s Grill & Saloon\, 42900 Big Bear Blvd\, Big Bear City\, CA\, United States
END:VEVENT
BEGIN:VEVENT
DTSTART;TZID=America/Los_Angeles:20260529T170000
DTEND;TZID=America/Los_Angeles:20260529T180000
DTSTAMP:20260424T033531
CREATED:20260423T072815Z
LAST-MODIFIED:20260423T072815Z
UID:13125-1780074000-1780077600@achalet.com
SUMMARY:Free Tango Lessons
DESCRIPTION:Step into the rhythm\, the connection\, and the fun of Argentine Tango — right here in Big Bear.\n \n Time: 5pm–6pm Cost: Free Partner: Not needed Ages: All ages welcome Instructors: Greg & MariaWyatt’s will be open to purchase food and drinks (4pm-10pm)\n \nJoin the Big Bear Community Dance Association for a beginner‑friendly hour of movement\, music\, and community. Greg and Maria break everything down step‑by‑step\, making it easy for absolute beginners and fun for returning dancers.\n \nWhy You’ll Love It\n-Learn a beautiful social dance in a relaxed\, supportive space\n-Meet other locals who love to move\n-No pressure\, no partner\, no experience required\n-A perfect FREE Date Night\n \nCome dance\, laugh\, and try something new — your feet might surprise you.
URL:https://achalet.com/event/free-tango-lessons-7/
LOCATION:CA
END:VEVENT
BEGIN:VEVENT
DTSTART;TZID=America/Los_Angeles:20260530T160000
DTEND;TZID=America/Los_Angeles:20260530T220000
DTSTAMP:20260424T033531
CREATED:20260402T071322Z
LAST-MODIFIED:20260423T072815Z
UID:13070-1780156800-1780178400@achalet.com
SUMMARY:Wyatt's Grill & Saloon With Dining\,Take-Out/Delivery\, & Live Music
DESCRIPTION:
URL:https://achalet.com/event/wyatts-grill-saloon-with-diningtake-out-delivery-live-music-87/
LOCATION:Wyatt’s Grill & Saloon\, 42900 Big Bear Blvd\, Big Bear City\, CA\, United States
END:VEVENT
BEGIN:VEVENT
DTSTART;TZID=America/Los_Angeles:20260603T160000
DTEND;TZID=America/Los_Angeles:20260603T220000
DTSTAMP:20260424T033531
CREATED:20260402T071322Z
LAST-MODIFIED:20260423T072815Z
UID:13071-1780502400-1780524000@achalet.com
SUMMARY:Wyatt's Grill & Saloon With Dining\,Take-Out/Delivery\, & Live Music
DESCRIPTION:
URL:https://achalet.com/event/wyatts-grill-saloon-with-diningtake-out-delivery-live-music-88/
LOCATION:Wyatt’s Grill & Saloon\, 42900 Big Bear Blvd\, Big Bear City\, CA\, United States
END:VEVENT
BEGIN:VEVENT
DTSTART;TZID=America/Los_Angeles:20260605T160000
DTEND;TZID=America/Los_Angeles:20260605T220000
DTSTAMP:20260424T033531
CREATED:20260402T071322Z
LAST-MODIFIED:20260416T071312Z
UID:13072-1780675200-1780696800@achalet.com
SUMMARY:Wyatt's Grill & Saloon With Dining\,Take-Out/Delivery\, & Live Music
DESCRIPTION:
URL:https://achalet.com/event/wyatts-grill-saloon-with-diningtake-out-delivery-live-music-89/
LOCATION:Wyatt’s Grill & Saloon\, 42900 Big Bear Blvd\, Big Bear City\, CA\, United States
END:VEVENT
BEGIN:VEVENT
DTSTART;TZID=America/Los_Angeles:20260606T160000
DTEND;TZID=America/Los_Angeles:20260606T220000
DTSTAMP:20260424T033531
CREATED:20260416T071312Z
LAST-MODIFIED:20260416T071312Z
UID:13107-1780761600-1780783200@achalet.com
SUMMARY:Wyatt's Grill & Saloon With Dining\,Take-Out/Delivery\, & Live Music
DESCRIPTION:
URL:https://achalet.com/event/wyatts-grill-saloon-with-diningtake-out-delivery-live-music-90/
LOCATION:Wyatt’s Grill & Saloon\, 42900 Big Bear Blvd\, Big Bear City\, CA\, United States
END:VEVENT
BEGIN:VEVENT
DTSTART;TZID=America/Los_Angeles:20260610T160000
DTEND;TZID=America/Los_Angeles:20260610T220000
DTSTAMP:20260424T033531
CREATED:20260416T071312Z
LAST-MODIFIED:20260416T071312Z
UID:13108-1781107200-1781128800@achalet.com
SUMMARY:Wyatt's Grill & Saloon With Dining\,Take-Out/Delivery\, & Live Music
DESCRIPTION:
URL:https://achalet.com/event/wyatts-grill-saloon-with-diningtake-out-delivery-live-music-91/
LOCATION:Wyatt’s Grill & Saloon\, 42900 Big Bear Blvd\, Big Bear City\, CA\, United States
END:VEVENT
END:VCALENDAR