BEGIN:VCALENDAR
VERSION:2.0
PRODID:-//A-Chalet - ECPv6.15.20//NONSGML v1.0//EN
CALSCALE:GREGORIAN
METHOD:PUBLISH
X-WR-CALNAME:A-Chalet
X-ORIGINAL-URL:https://achalet.com
X-WR-CALDESC:Events for A-Chalet
REFRESH-INTERVAL;VALUE=DURATION:PT1H
X-Robots-Tag:noindex
X-PUBLISHED-TTL:PT1H
BEGIN:VTIMEZONE
TZID:America/Los_Angeles
BEGIN:DAYLIGHT
TZOFFSETFROM:-0800
TZOFFSETTO:-0700
TZNAME:PDT
DTSTART:20240310T100000
END:DAYLIGHT
BEGIN:STANDARD
TZOFFSETFROM:-0700
TZOFFSETTO:-0800
TZNAME:PST
DTSTART:20241103T090000
END:STANDARD
BEGIN:DAYLIGHT
TZOFFSETFROM:-0800
TZOFFSETTO:-0700
TZNAME:PDT
DTSTART:20250309T100000
END:DAYLIGHT
BEGIN:STANDARD
TZOFFSETFROM:-0700
TZOFFSETTO:-0800
TZNAME:PST
DTSTART:20251102T090000
END:STANDARD
BEGIN:DAYLIGHT
TZOFFSETFROM:-0800
TZOFFSETTO:-0700
TZNAME:PDT
DTSTART:20260308T100000
END:DAYLIGHT
BEGIN:STANDARD
TZOFFSETFROM:-0700
TZOFFSETTO:-0800
TZNAME:PST
DTSTART:20261101T090000
END:STANDARD
END:VTIMEZONE
BEGIN:VEVENT
DTSTART;TZID=America/Los_Angeles:20250926T160000
DTEND;TZID=America/Los_Angeles:20251024T190000
DTSTAMP:20260420T004540
CREATED:20250821T211325Z
LAST-MODIFIED:20250821T211325Z
UID:12435-1758902400-1761332400@achalet.com
SUMMARY:Big Bear Lake Farmers Market
DESCRIPTION:Big Bear’s newest Farmer’s Market comes to Ski Beach Park every Friday this summer from 4 PM – 8 PM featuring local farms\, hot food vendors\, and artisans. Continues through October 2025. \n\nAddress:41216 Park AveBig Bear Lake\, California 92315Time: 16:00:00 to 19:00:00Location: Ski Beach ParkPhone: 909-547-4574Website:
URL:https://achalet.com/event/big-bear-lake-farmers-market-6/
LOCATION:CA
END:VEVENT
BEGIN:VEVENT
DTSTART;VALUE=DATE:20250926
DTEND;VALUE=DATE:20250927
DTSTAMP:20260420T004540
CREATED:20250904T061317Z
LAST-MODIFIED:20250925T061342Z
UID:12561-1758844800-1758931199@achalet.com
SUMMARY:**WYATT"S CLOSED**
DESCRIPTION:
URL:https://achalet.com/event/wyatts-closed-5/
LOCATION:Wyatt’s Grill & Saloon\, 42900 Big Bear Blvd\, Big Bear City\, CA\, United States
END:VEVENT
BEGIN:VEVENT
DTSTART;TZID=America/Los_Angeles:20250924T183000
DTEND;TZID=America/Los_Angeles:20250924T213000
DTSTAMP:20260420T004540
CREATED:20250911T061308Z
LAST-MODIFIED:20250918T061319Z
UID:12594-1758738600-1758749400@achalet.com
SUMMARY:Free Line Dancing Lessons With Adia
DESCRIPTION:
URL:https://achalet.com/event/free-line-dancing-lessons-with-adia/
LOCATION:Wyatt’s Grill & Saloon\, 42900 Big Bear Blvd\, Big Bear City\, CA\, United States
END:VEVENT
BEGIN:VEVENT
DTSTART;TZID=America/Los_Angeles:20250924T160000
DTEND;TZID=America/Los_Angeles:20251224T233000
DTSTAMP:20260420T004540
CREATED:20250821T211325Z
LAST-MODIFIED:20250821T211325Z
UID:12433-1758729600-1766619000@achalet.com
SUMMARY:Wyatt's Country Wednesdays
DESCRIPTION:Throw on your cowboy hat every Wednesday! \nGroove to country tunes every Wednesday evening at Wyatt’s Grill & Saloon! Join in the line dancing and jump in on free lessons throughout the evening. Enjoy the friendly atmosphere and ranch style grub!  \nDoors open at 4 PM and country dancing begins at 6 PM. \nAdmission is free. \n  \n\nAddress:42900 Big Bear Blvd.Big Bear Lake\, California 92315Time: 16:00:00 to 23:30:00Location: Big Bear Convention CenterPhone: 909-585-3000Website:
URL:https://achalet.com/event/wyatts-country-wednesdays-6/
LOCATION:CA
END:VEVENT
BEGIN:VEVENT
DTSTART;TZID=America/Los_Angeles:20250924T160000
DTEND;TZID=America/Los_Angeles:20250924T220000
DTSTAMP:20260420T004540
CREATED:20250821T060708Z
LAST-MODIFIED:20250918T061319Z
UID:12294-1758729600-1758751200@achalet.com
SUMMARY:Wyatt's Country Dancing and Lessons
DESCRIPTION:Join us for Wyatt’s Country dancing with a Live DJ and Lessons taught through the night. (A Local’s Favorite)\nEnjoy food\, drinks\, and a fun atmosphere suitable for all ages.\nBring the whole family or become a part of ours!
URL:https://achalet.com/event/wyatts-country-dancing-and-lessons-5/
LOCATION:Wyatt’s Grill & Saloon\, 42900 Big Bear Blvd\, Big Bear City\, CA\, United States
END:VEVENT
BEGIN:VEVENT
DTSTART;TZID=America/Los_Angeles:20250923T083000
DTEND;TZID=America/Los_Angeles:20250923T130000
DTSTAMP:20260420T004540
CREATED:20250821T060708Z
LAST-MODIFIED:20250918T061319Z
UID:12293-1758616200-1758632400@achalet.com
SUMMARY:Big Bear Farmers Market
DESCRIPTION:Visit Their Facebook
URL:https://achalet.com/event/big-bear-farmers-market-6/
LOCATION:Big Bear Lake Convention Center\, 42900 Big Bear Blvd\, Big Bear City\, CA\, United States
ORGANIZER;CN="Convention Center at Big Bear Lake":MAILTO:info@bigbearevents.com
END:VEVENT
BEGIN:VEVENT
DTSTART;TZID=America/Los_Angeles:20250921T120000
DTEND;TZID=America/Los_Angeles:20250921T180000
DTSTAMP:20260420T004540
CREATED:20250821T060708Z
LAST-MODIFIED:20250918T061319Z
UID:12292-1758456000-1758477600@achalet.com
SUMMARY:55th Annual Big Bear Lake Oktoberfest
DESCRIPTION:
URL:https://achalet.com/event/55th-annual-big-bear-lake-oktoberfest-6/
LOCATION:Big Bear Lake Convention Center\, 42900 Big Bear Blvd\, Big Bear City\, CA\, United States
END:VEVENT
BEGIN:VEVENT
DTSTART;TZID=America/Los_Angeles:20250921T000000
DTEND;TZID=America/Los_Angeles:20251108T000000
DTSTAMP:20260420T004540
CREATED:20250821T211318Z
LAST-MODIFIED:20250821T211318Z
UID:12431-1758412800-1762560000@achalet.com
SUMMARY:Oktoberfest 2025
DESCRIPTION:Sept. 6 – Nov. 12\, 2025 \nLocated in the mountain town of Big Bear Lake\, this annual celebration has always been based on the lore of the world™s original Oktoberfest. Over the years\, the Big Bear Lake Oktoberfest has become world renown for its own traditions and old-world ambiance\, celebrating friends\, family and good times. A festival like no other\, guests are treated to authentic German entertainment; feast on Brats and Knockwursts direct from the German butcher; and enjoy the very same beers poured at Munich™s Oktoberfest for more than 150 years! \n \nEvent Schedule \n\nFridays (October Only): 5 p.m. “ 11 p.m.\nSaturdays (September): 1 p.m. “ 11 p.m.\nSaturdays (October): 1 p.m. “ 12 a.m.\nSundays: 12 noon “ 6 p.m.\n\n\nAddress:42900 Big Bear BlvdBig Bear City\, CaliforniaLocation: Big Bear Convention CenterPhone: 909-585-3000Website:
URL:https://achalet.com/event/oktoberfest-2025-6/
LOCATION:CA
END:VEVENT
BEGIN:VEVENT
DTSTART;TZID=America/Los_Angeles:20250920T160000
DTEND;TZID=America/Los_Angeles:20251227T220000
DTSTAMP:20260420T004540
CREATED:20250821T211318Z
LAST-MODIFIED:20250821T211318Z
UID:12430-1758384000-1766872800@achalet.com
SUMMARY:Wyatt's Honky Tonk Weekends
DESCRIPTION:FRIDAYS AND SATURDAYS \nWyatt™s Grill and Saloon is truly the simple place where the good folks of Big Bear gather. Join this friendly crew every Friday and Saturday (Saturdays are strictly country\, yeehaw!) for live music at 6 PM!  \nDoors open at 4 PM and full restaurant and bar will be open. \nAdmission is free. \n  \n \n\nAddress:42900 Big Bear BlvdBig Bear Lake\, California 92315Time: 16:00:00 to 22:00:00Location: Big Bear Convention CenterPhone: 909-585-3000Website:
URL:https://achalet.com/event/wyatts-honky-tonk-weekends-10/
LOCATION:CA
END:VEVENT
BEGIN:VEVENT
DTSTART;TZID=America/Los_Angeles:20250920T130000
DTEND;TZID=America/Los_Angeles:20250920T230000
DTSTAMP:20260420T004540
CREATED:20250821T060708Z
LAST-MODIFIED:20250918T061319Z
UID:12291-1758373200-1758409200@achalet.com
SUMMARY:55th Annual Big Bear Lake Oktoberfest
DESCRIPTION:
URL:https://achalet.com/event/55th-annual-big-bear-lake-oktoberfest-5/
LOCATION:Big Bear Lake Convention Center\, 42900 Big Bear Blvd\, Big Bear City\, CA\, United States
END:VEVENT
BEGIN:VEVENT
DTSTART;TZID=America/Los_Angeles:20250920T080000
DTEND;TZID=America/Los_Angeles:20250920T120000
DTSTAMP:20260420T004540
CREATED:20250821T211318Z
LAST-MODIFIED:20250821T211318Z
UID:12429-1758355200-1758369600@achalet.com
SUMMARY:25/26 Winter Season Job Fair at Big Bear Mountain Resort
DESCRIPTION:Spend winter on the slopes at Southern California’s home for alpine good times\, <a href="” target=”_blank” rel=”noreferrer noopener”>Big Bear Mountain Resort (BBMR). Work in a fun\, fast-paced environment with competitive pay starting at $19/hr\, plus season passes for employees\, dependents\, and Friends & Family lift tickets. \nDate: <a href="” target=”_blank” rel=”noreferrer noopener”>Sept. 20\, 2025Time: 8AM — 12PMLocation: BBMR HR Office (41922 Fox Farm Rd\, Big Bear Lake\, CA 92315) \nOpen positions are available at Snow Valley\, Snow Summit\, and Bear Mountain. To save time\, <a href="” target=”_blank” rel=”noreferrer noopener”>apply online first then come meet the BBMR team in person. Even if there’s not an open role that sparks interest\, learn about future opportunities that may arise soon. \n\nAddress:41922 Fox Farm Rd\, Big Bear Lake\, CA 92315Big Bear Lake\, California 92315Time: 08:00:00 to 12:00:00Location: BBMR HR OfficeContact: Big Bear Mountain ResortPhone: 909-366-4900Website:
URL:https://achalet.com/event/25-26-winter-season-job-fair-at-big-bear-mountain-resort-2/
LOCATION:CA
END:VEVENT
BEGIN:VEVENT
DTSTART;TZID=America/Los_Angeles:20250920T080000
DTEND;TZID=America/Los_Angeles:20250920T120000
DTSTAMP:20260420T004540
CREATED:20250821T211317Z
LAST-MODIFIED:20250821T211317Z
UID:12428-1758355200-1758369600@achalet.com
SUMMARY:25/26 Winter Season Job Fair at Big Bear Mountain Resort
DESCRIPTION:Spend winter on the slopes at Southern California’s home for alpine good times\, <a href="” target=”_blank” rel=”noreferrer noopener”>Big Bear Mountain Resort (BBMR). Work in a fun\, fast-paced environment with competitive pay starting at $19/hr\, plus season passes for employees\, dependents\, and Friends & Family lift tickets. \nDate: <a href="” target=”_blank” rel=”noreferrer noopener”>Sept. 20\, 2025Time: 8AM — 12PMLocation: BBMR HR Office (41922 Fox Farm Rd\, Big Bear Lake\, CA 92315) \nOpen positions are available at Snow Valley\, Snow Summit\, and Bear Mountain. To save time\, <a href="” target=”_blank” rel=”noreferrer noopener”>apply online first then come meet the BBMR team in person. Even if there’s not an open role that sparks interest\, learn about future opportunities that may arise soon. \n\nAddress:41922 Fox Farm Rd\, Big Bear Lake\, CA 92315Big Bear Lake\, California 92315Time: 08:00:00 to 12:00:00Location: BBMR HR OfficeContact: Big Bear Mountain ResortPhone: 909-366-4900Website:
URL:https://achalet.com/event/25-26-winter-season-job-fair-at-big-bear-mountain-resort/
LOCATION:CA
END:VEVENT
BEGIN:VEVENT
DTSTART;TZID=America/Los_Angeles:20250920T000000
DTEND;TZID=America/Los_Angeles:20251108T000000
DTSTAMP:20260420T004540
CREATED:20250821T211312Z
LAST-MODIFIED:20250821T211312Z
UID:12427-1758326400-1762560000@achalet.com
SUMMARY:Oktoberfest 2025
DESCRIPTION:Sept. 6 – Nov. 12\, 2025 \nLocated in the mountain town of Big Bear Lake\, this annual celebration has always been based on the lore of the world™s original Oktoberfest. Over the years\, the Big Bear Lake Oktoberfest has become world renown for its own traditions and old-world ambiance\, celebrating friends\, family and good times. A festival like no other\, guests are treated to authentic German entertainment; feast on Brats and Knockwursts direct from the German butcher; and enjoy the very same beers poured at Munich™s Oktoberfest for more than 150 years! \n \nEvent Schedule \n\nFridays (October Only): 5 p.m. “ 11 p.m.\nSaturdays (September): 1 p.m. “ 11 p.m.\nSaturdays (October): 1 p.m. “ 12 a.m.\nSundays: 12 noon “ 6 p.m.\n\n\nAddress:42900 Big Bear BlvdBig Bear City\, CaliforniaLocation: Big Bear Convention CenterPhone: 909-585-3000Website:
URL:https://achalet.com/event/oktoberfest-2025-5/
LOCATION:CA
END:VEVENT
BEGIN:VEVENT
DTSTART;TZID=America/Los_Angeles:20250920T000000
DTEND;TZID=America/Los_Angeles:20250920T000000
DTSTAMP:20260420T004540
CREATED:20250821T211311Z
LAST-MODIFIED:20250821T211311Z
UID:12426-1758326400-1758326400@achalet.com
SUMMARY:Star Party
DESCRIPTION:Join the Bear Valley Astronomical Society for monthly Star Parties at the Big Bear Discovery Center. Peer through the telescopes to view stars\, planets\, and more and learn about the incredible skies above us. Big Bear is a prime destination for night sky viewing being away from bright cities lights. Everyone is welcome to join in the fun so bring out the whole family. \nJuly 26: 8 PM – 11 PM \nSept 20: 6:30 PM – 10 PM \n \n  \n\nAddress:Baldwin Lake\, California 92314Location: Big Bear Discovery Center
URL:https://achalet.com/event/star-party/
LOCATION:CA
END:VEVENT
BEGIN:VEVENT
DTSTART;TZID=America/Los_Angeles:20250919T160000
DTEND;TZID=America/Los_Angeles:20251227T220000
DTSTAMP:20260420T004540
CREATED:20250821T211311Z
LAST-MODIFIED:20250821T211311Z
UID:12423-1758297600-1766872800@achalet.com
SUMMARY:Wyatt's Honky Tonk Weekends
DESCRIPTION:FRIDAYS AND SATURDAYS \nWyatt™s Grill and Saloon is truly the simple place where the good folks of Big Bear gather. Join this friendly crew every Friday and Saturday (Saturdays are strictly country\, yeehaw!) for live music at 6 PM!  \nDoors open at 4 PM and full restaurant and bar will be open. \nAdmission is free. \n  \n \n\nAddress:42900 Big Bear BlvdBig Bear Lake\, California 92315Time: 16:00:00 to 22:00:00Location: Big Bear Convention CenterPhone: 909-585-3000Website:
URL:https://achalet.com/event/wyatts-honky-tonk-weekends-9/
LOCATION:CA
END:VEVENT
BEGIN:VEVENT
DTSTART;TZID=America/Los_Angeles:20250919T160000
DTEND;TZID=America/Los_Angeles:20251024T190000
DTSTAMP:20260420T004540
CREATED:20250821T211311Z
LAST-MODIFIED:20250821T211311Z
UID:12424-1758297600-1761332400@achalet.com
SUMMARY:Big Bear Lake Farmers Market
DESCRIPTION:Big Bear’s newest Farmer’s Market comes to Ski Beach Park every Friday this summer from 4 PM – 8 PM featuring local farms\, hot food vendors\, and artisans. Continues through October 2025. \n\nAddress:41216 Park AveBig Bear Lake\, California 92315Time: 16:00:00 to 19:00:00Location: Ski Beach ParkPhone: 909-547-4574Website:
URL:https://achalet.com/event/big-bear-lake-farmers-market-5/
LOCATION:CA
END:VEVENT
BEGIN:VEVENT
DTSTART;VALUE=DATE:20250919
DTEND;VALUE=DATE:20250920
DTSTAMP:20260420T004540
CREATED:20250904T061316Z
LAST-MODIFIED:20250918T061319Z
UID:12560-1758240000-1758326399@achalet.com
SUMMARY:**WYATT"S CLOSED**
DESCRIPTION:
URL:https://achalet.com/event/wyatts-closed-4/
LOCATION:Wyatt’s Grill & Saloon\, 42900 Big Bear Blvd\, Big Bear City\, CA\, United States
END:VEVENT
BEGIN:VEVENT
DTSTART;TZID=America/Los_Angeles:20250917T183000
DTEND;TZID=America/Los_Angeles:20250917T213000
DTSTAMP:20260420T004540
CREATED:20250911T061308Z
LAST-MODIFIED:20250911T061309Z
UID:12592-1758133800-1758144600@achalet.com
SUMMARY:Free Line Dancing Lessons With Chase
DESCRIPTION:
URL:https://achalet.com/event/free-line-dancing-lessons-with-chase/
LOCATION:Wyatt’s Grill & Saloon\, 42900 Big Bear Blvd\, Big Bear City\, CA\, United States
END:VEVENT
BEGIN:VEVENT
DTSTART;TZID=America/Los_Angeles:20250917T160000
DTEND;TZID=America/Los_Angeles:20251224T233000
DTSTAMP:20260420T004540
CREATED:20250821T211304Z
LAST-MODIFIED:20250821T211304Z
UID:12421-1758124800-1766619000@achalet.com
SUMMARY:Wyatt's Country Wednesdays
DESCRIPTION:Throw on your cowboy hat every Wednesday! \nGroove to country tunes every Wednesday evening at Wyatt’s Grill & Saloon! Join in the line dancing and jump in on free lessons throughout the evening. Enjoy the friendly atmosphere and ranch style grub!  \nDoors open at 4 PM and country dancing begins at 6 PM. \nAdmission is free. \n  \n\nAddress:42900 Big Bear Blvd.Big Bear Lake\, California 92315Time: 16:00:00 to 23:30:00Location: Big Bear Convention CenterPhone: 909-585-3000Website:
URL:https://achalet.com/event/wyatts-country-wednesdays-5/
LOCATION:CA
END:VEVENT
BEGIN:VEVENT
DTSTART;TZID=America/Los_Angeles:20250917T160000
DTEND;TZID=America/Los_Angeles:20250917T220000
DTSTAMP:20260420T004540
CREATED:20250821T060707Z
LAST-MODIFIED:20250911T061309Z
UID:12290-1758124800-1758146400@achalet.com
SUMMARY:Wyatt's Country Dancing and Lessons
DESCRIPTION:Join us for Wyatt’s Country dancing with a Live DJ and Lessons taught through the night. (A Local’s Favorite)\nEnjoy food\, drinks\, and a fun atmosphere suitable for all ages.\nBring the whole family or become a part of ours!
URL:https://achalet.com/event/wyatts-country-dancing-and-lessons-4/
LOCATION:Wyatt’s Grill & Saloon\, 42900 Big Bear Blvd\, Big Bear City\, CA\, United States
END:VEVENT
BEGIN:VEVENT
DTSTART;TZID=America/Los_Angeles:20250916T083000
DTEND;TZID=America/Los_Angeles:20250923T130000
DTSTAMP:20260420T004540
CREATED:20250821T211304Z
LAST-MODIFIED:20250821T211304Z
UID:12420-1758011400-1758632400@achalet.com
SUMMARY:Big Bear Farmers Market
DESCRIPTION:Enjoy fresh fruits\, vegetables and flowers all summer long when you shop arts\, crafts\, health products and a huge variety of collectibles at the Big Bear Valley Farmer’s Market every Tuesday at the Big Bear Convention Center! This is an outdoor event. \nWhere: Big Bear Convention Center at 42900 Big Bear Blvd \nWhen: Every Tuesday 8:30 AM – 1 PM (Every Tuesday\, April through September) \n\nAddress:42900 Big Bear BlvdBig Bear Lake\, California 92315Time: 08:30:00 to 13:00:00Location: Big Bear Convention CenterPhone: (909) 585-3000Website:
URL:https://achalet.com/event/big-bear-farmers-market-10/
LOCATION:CA
END:VEVENT
BEGIN:VEVENT
DTSTART;TZID=America/Los_Angeles:20250916T083000
DTEND;TZID=America/Los_Angeles:20250916T130000
DTSTAMP:20260420T004540
CREATED:20250821T060707Z
LAST-MODIFIED:20250911T061308Z
UID:12289-1758011400-1758027600@achalet.com
SUMMARY:Big Bear Farmers Market
DESCRIPTION:Visit Their Facebook
URL:https://achalet.com/event/big-bear-farmers-market-5/
LOCATION:Big Bear Lake Convention Center\, 42900 Big Bear Blvd\, Big Bear City\, CA\, United States
ORGANIZER;CN="Convention Center at Big Bear Lake":MAILTO:info@bigbearevents.com
END:VEVENT
BEGIN:VEVENT
DTSTART;TZID=America/Los_Angeles:20250914T120000
DTEND;TZID=America/Los_Angeles:20250914T180000
DTSTAMP:20260420T004540
CREATED:20250821T060707Z
LAST-MODIFIED:20250911T061308Z
UID:12288-1757851200-1757872800@achalet.com
SUMMARY:55th Annual Big Bear Lake Oktoberfest
DESCRIPTION:
URL:https://achalet.com/event/55th-annual-big-bear-lake-oktoberfest-4/
LOCATION:Big Bear Lake Convention Center\, 42900 Big Bear Blvd\, Big Bear City\, CA\, United States
END:VEVENT
BEGIN:VEVENT
DTSTART;TZID=America/Los_Angeles:20250914T000000
DTEND;TZID=America/Los_Angeles:20251108T000000
DTSTAMP:20260420T004540
CREATED:20250821T211304Z
LAST-MODIFIED:20250821T211304Z
UID:12418-1757808000-1762560000@achalet.com
SUMMARY:Oktoberfest 2025
DESCRIPTION:Sept. 6 – Nov. 12\, 2025 \nLocated in the mountain town of Big Bear Lake\, this annual celebration has always been based on the lore of the world™s original Oktoberfest. Over the years\, the Big Bear Lake Oktoberfest has become world renown for its own traditions and old-world ambiance\, celebrating friends\, family and good times. A festival like no other\, guests are treated to authentic German entertainment; feast on Brats and Knockwursts direct from the German butcher; and enjoy the very same beers poured at Munich™s Oktoberfest for more than 150 years! \n \nEvent Schedule \n\nFridays (October Only): 5 p.m. “ 11 p.m.\nSaturdays (September): 1 p.m. “ 11 p.m.\nSaturdays (October): 1 p.m. “ 12 a.m.\nSundays: 12 noon “ 6 p.m.\n\n\nAddress:42900 Big Bear BlvdBig Bear City\, CaliforniaLocation: Big Bear Convention CenterPhone: 909-585-3000Website:
URL:https://achalet.com/event/oktoberfest-2025-4/
LOCATION:CA
END:VEVENT
BEGIN:VEVENT
DTSTART;TZID=America/Los_Angeles:20250913T160000
DTEND;TZID=America/Los_Angeles:20251227T220000
DTSTAMP:20260420T004540
CREATED:20250821T211258Z
LAST-MODIFIED:20250821T211258Z
UID:12417-1757779200-1766872800@achalet.com
SUMMARY:Wyatt's Honky Tonk Weekends
DESCRIPTION:FRIDAYS AND SATURDAYS \nWyatt’s Grill and Saloon is truly the simple place where the good folks of Big Bear gather. Join this friendly crew every Friday and Saturday (Saturdays are strictly country\, yeehaw!) for live music at 6 PM!  \nDoors open at 4 PM and full restaurant and bar will be open. \nAdmission is free. \n  \n \n\nAddress:42900 Big Bear BlvdBig Bear Lake\, California 92315Time: 16:00:00 to 22:00:00Location: Big Bear Convention CenterPhone: 909-585-3000Website:
URL:https://achalet.com/event/wyatts-honky-tonk-weekends-8/
LOCATION:CA
END:VEVENT
BEGIN:VEVENT
DTSTART;TZID=America/Los_Angeles:20250913T130000
DTEND;TZID=America/Los_Angeles:20250913T230000
DTSTAMP:20260420T004540
CREATED:20250821T060707Z
LAST-MODIFIED:20250911T061308Z
UID:12287-1757768400-1757804400@achalet.com
SUMMARY:55th Annual Big Bear Lake Oktoberfest
DESCRIPTION:
URL:https://achalet.com/event/55th-annual-big-bear-lake-oktoberfest-3/
LOCATION:Big Bear Lake Convention Center\, 42900 Big Bear Blvd\, Big Bear City\, CA\, United States
END:VEVENT
BEGIN:VEVENT
DTSTART;TZID=America/Los_Angeles:20250913T100000
DTEND;TZID=America/Los_Angeles:20250913T140000
DTSTAMP:20260420T004540
CREATED:20250821T211257Z
LAST-MODIFIED:20250821T211257Z
UID:12416-1757757600-1757772000@achalet.com
SUMMARY:Golf Club Demos | Weekend 3
DESCRIPTION:Join us at the <a href="” target=”_blank” rel=”noreferrer noopener”>Bear Mountain Golf Course Driving Range on September 13\, 2025\, from 10AM–2PM for <a href="” target=”_blank” rel=”noreferrer noopener”>free club demos\, fittings\, and more by Cleveland Golf & Srixon. Demo clubs will be available for purchase at the BMGC Pro Shop. \n\nAddress:43092 Goldmine Dr.Big Bear Lake\, California 92315Time: 10:00:00 to 14:00:00Location: Bear Mountain Golf CourseContact: Big Bear Mountain ResortPhone: 844.462.2327Website:
URL:https://achalet.com/event/golf-club-demos-weekend-3/
LOCATION:CA
END:VEVENT
BEGIN:VEVENT
DTSTART;TZID=America/Los_Angeles:20250913T000000
DTEND;TZID=America/Los_Angeles:20251108T000000
DTSTAMP:20260420T004540
CREATED:20250821T211257Z
LAST-MODIFIED:20250821T211257Z
UID:12415-1757721600-1762560000@achalet.com
SUMMARY:Oktoberfest 2025
DESCRIPTION:Sept. 6 – Nov. 12\, 2025 \nLocated in the mountain town of Big Bear Lake\, this annual celebration has always been based on the lore of the world™s original Oktoberfest. Over the years\, the Big Bear Lake Oktoberfest has become world renown for its own traditions and old-world ambiance\, celebrating friends\, family and good times. A festival like no other\, guests are treated to authentic German entertainment; feast on Brats and Knockwursts direct from the German butcher; and enjoy the very same beers poured at Munich™s Oktoberfest for more than 150 years! \n \nEvent Schedule \n\nFridays (October Only): 5 p.m. “ 11 p.m.\nSaturdays (September): 1 p.m. “ 11 p.m.\nSaturdays (October): 1 p.m. “ 12 a.m.\nSundays: 12 noon “ 6 p.m.\n\n\nAddress:42900 Big Bear BlvdBig Bear City\, CaliforniaLocation: Big Bear Convention CenterPhone: 909-585-3000Website:
URL:https://achalet.com/event/oktoberfest-2025-3/
LOCATION:CA
END:VEVENT
BEGIN:VEVENT
DTSTART;TZID=America/Los_Angeles:20250913T000000
DTEND;TZID=America/Los_Angeles:20250913T000000
DTSTAMP:20260420T004540
CREATED:20250821T211257Z
LAST-MODIFIED:20250821T211257Z
UID:12414-1757721600-1757721600@achalet.com
SUMMARY:Live Music at Barrel 33
DESCRIPTION:Friday\, July 25th – September 13th\, 2025 \nIt’s time to get into the groove! Come join us at Barrel 33 for an evening full of enchanting music and tunes from featured musicians! \nSchedule \n\nHilary Watson – 7/19\n\n\nEd Masuga – 7/25\n\nBrad from SilverMoon – 7/26\n\nBrad from SilverMoon – 8/1\n\nConnor Peyton – 8/2\n\nBearly Famous – 8/8\n\nHoly Crow – 8/9\n\nRyan Bieber – 8/16\n\nBrad from SilverMoon – 8/22\n\nBearly Famous – 8/23\n\nDJ David – 8/29\n\nHilary Watson – 8/30 – From 1:00 to 4:00 PM\n\nHoly Crow – 9/13\n\n\nAddress:40754 Village DrBig Bear Lake\, California 92315Location: Barrel 33Phone: 909-878-0838
URL:https://achalet.com/event/live-music-at-barrel-33-7/
LOCATION:CA
END:VEVENT
BEGIN:VEVENT
DTSTART;TZID=America/Los_Angeles:20250912T160000
DTEND;TZID=America/Los_Angeles:20251227T220000
DTSTAMP:20260420T004540
CREATED:20250821T211250Z
LAST-MODIFIED:20250821T211250Z
UID:12411-1757692800-1766872800@achalet.com
SUMMARY:Wyatt's Honky Tonk Weekends
DESCRIPTION:FRIDAYS AND SATURDAYS \nWyatt™s Grill and Saloon is truly the simple place where the good folks of Big Bear gather. Join this friendly crew every Friday and Saturday (Saturdays are strictly country\, yeehaw!) for live music at 6 PM!  \nDoors open at 4 PM and full restaurant and bar will be open. \nAdmission is free. \n  \n \n\nAddress:42900 Big Bear BlvdBig Bear Lake\, California 92315Time: 16:00:00 to 22:00:00Location: Big Bear Convention CenterPhone: 909-585-3000Website:
URL:https://achalet.com/event/wyatts-honky-tonk-weekends-7/
LOCATION:CA
END:VEVENT
END:VCALENDAR