BEGIN:VCALENDAR
VERSION:2.0
PRODID:-//A-Chalet - ECPv6.15.20//NONSGML v1.0//EN
CALSCALE:GREGORIAN
METHOD:PUBLISH
X-WR-CALNAME:A-Chalet
X-ORIGINAL-URL:https://achalet.com
X-WR-CALDESC:Events for A-Chalet
REFRESH-INTERVAL;VALUE=DURATION:PT1H
X-Robots-Tag:noindex
X-PUBLISHED-TTL:PT1H
BEGIN:VTIMEZONE
TZID:America/Los_Angeles
BEGIN:DAYLIGHT
TZOFFSETFROM:-0800
TZOFFSETTO:-0700
TZNAME:PDT
DTSTART:20240310T100000
END:DAYLIGHT
BEGIN:STANDARD
TZOFFSETFROM:-0700
TZOFFSETTO:-0800
TZNAME:PST
DTSTART:20241103T090000
END:STANDARD
BEGIN:DAYLIGHT
TZOFFSETFROM:-0800
TZOFFSETTO:-0700
TZNAME:PDT
DTSTART:20250309T100000
END:DAYLIGHT
BEGIN:STANDARD
TZOFFSETFROM:-0700
TZOFFSETTO:-0800
TZNAME:PST
DTSTART:20251102T090000
END:STANDARD
BEGIN:DAYLIGHT
TZOFFSETFROM:-0800
TZOFFSETTO:-0700
TZNAME:PDT
DTSTART:20260308T100000
END:DAYLIGHT
BEGIN:STANDARD
TZOFFSETFROM:-0700
TZOFFSETTO:-0800
TZNAME:PST
DTSTART:20261101T090000
END:STANDARD
BEGIN:DAYLIGHT
TZOFFSETFROM:-0800
TZOFFSETTO:-0700
TZNAME:PDT
DTSTART:20270314T100000
END:DAYLIGHT
BEGIN:STANDARD
TZOFFSETFROM:-0700
TZOFFSETTO:-0800
TZNAME:PST
DTSTART:20271107T090000
END:STANDARD
END:VTIMEZONE
BEGIN:VEVENT
DTSTART;TZID=America/Los_Angeles:20250822T160000
DTEND;TZID=America/Los_Angeles:20251024T190000
DTSTAMP:20260419T153429
CREATED:20250821T211039Z
LAST-MODIFIED:20250821T211039Z
UID:12314-1755878400-1761332400@achalet.com
SUMMARY:Big Bear Lake Farmers Market
DESCRIPTION:Big Bear’s newest Farmer’s Market comes to Ski Beach Park every Friday this summer from 4 PM – 8 PM featuring local farms\, hot food vendors\, and artisans. Continues through October 2025. \n\nAddress:41216 Park AveBig Bear Lake\, California 92315Time: 16:00:00 to 19:00:00Location: Ski Beach ParkPhone: 909-547-4574Website:
URL:https://achalet.com/event/big-bear-lake-farmers-market/
LOCATION:CA
CATEGORIES:Outdoor Activities
END:VEVENT
BEGIN:VEVENT
DTSTART;TZID=America/Los_Angeles:20250822T160000
DTEND;TZID=America/Los_Angeles:20251227T220000
DTSTAMP:20260419T153429
CREATED:20250821T211039Z
LAST-MODIFIED:20250821T211039Z
UID:12315-1755878400-1766872800@achalet.com
SUMMARY:Wyatt's Honky Tonk Weekends
DESCRIPTION:FRIDAYS AND SATURDAYS \nWyatt’s Grill and Saloon is truly the simple place where the good folks of Big Bear gather. Join this friendly crew every Friday and Saturday (Saturdays are strictly country\, yeehaw!) for live music at 6 PM!  \nDoors open at 4 PM and full restaurant and bar will be open. \nAdmission is free. \n  \n \n\nAddress:42900 Big Bear BlvdBig Bear Lake\, California 92315Time: 16:00:00 to 22:00:00Location: Big Bear Convention CenterPhone: 909-585-3000Website:
URL:https://achalet.com/event/wyatts-honky-tonk-weekends/
LOCATION:CA
CATEGORIES:Outdoor Activities
END:VEVENT
BEGIN:VEVENT
DTSTART;TZID=America/Los_Angeles:20250822T180000
DTEND;TZID=America/Los_Angeles:20260221T210000
DTSTAMP:20260419T153429
CREATED:20250821T211038Z
LAST-MODIFIED:20250821T211038Z
UID:12313-1755885600-1771707600@achalet.com
SUMMARY:Live Music at Chateau Big Bear
DESCRIPTION:Chateau Big Bear has a rich history in the performing arts! Back in the late ’80s and early ’90s\, we hosted everything from Madame Butterfly and Othello to unforgettable disco parties. Stop by and make history. \nMike Cross and Big Bear’s favorite artists will be playing under the dome every Friday and Saturday from 6pm till 9pm. \n\nAddress:42200 Moonridge RdBig Bear Lake\, California 92315Time: 18:00:00 to 21:00:00Location: Chateau Big BearContact: Dennis SantopietroPhone: 909-866-6666Website:
URL:https://achalet.com/event/live-music-at-chateau-big-bear/
LOCATION:CA
CATEGORIES:Outdoor Activities
END:VEVENT
END:VCALENDAR