BEGIN:VCALENDAR
VERSION:2.0
PRODID:-//A-Chalet - ECPv6.15.20//NONSGML v1.0//EN
CALSCALE:GREGORIAN
METHOD:PUBLISH
X-WR-CALNAME:A-Chalet
X-ORIGINAL-URL:https://achalet.com
X-WR-CALDESC:Events for A-Chalet
REFRESH-INTERVAL;VALUE=DURATION:PT1H
X-Robots-Tag:noindex
X-PUBLISHED-TTL:PT1H
BEGIN:VTIMEZONE
TZID:America/Los_Angeles
BEGIN:DAYLIGHT
TZOFFSETFROM:-0800
TZOFFSETTO:-0700
TZNAME:PDT
DTSTART:20240310T100000
END:DAYLIGHT
BEGIN:STANDARD
TZOFFSETFROM:-0700
TZOFFSETTO:-0800
TZNAME:PST
DTSTART:20241103T090000
END:STANDARD
BEGIN:DAYLIGHT
TZOFFSETFROM:-0800
TZOFFSETTO:-0700
TZNAME:PDT
DTSTART:20250309T100000
END:DAYLIGHT
BEGIN:STANDARD
TZOFFSETFROM:-0700
TZOFFSETTO:-0800
TZNAME:PST
DTSTART:20251102T090000
END:STANDARD
BEGIN:DAYLIGHT
TZOFFSETFROM:-0800
TZOFFSETTO:-0700
TZNAME:PDT
DTSTART:20260308T100000
END:DAYLIGHT
BEGIN:STANDARD
TZOFFSETFROM:-0700
TZOFFSETTO:-0800
TZNAME:PST
DTSTART:20261101T090000
END:STANDARD
END:VTIMEZONE
BEGIN:VEVENT
DTSTART;TZID=America/Los_Angeles:20250614T173000
DTEND;TZID=America/Los_Angeles:20250906T210000
DTSTAMP:20260419T230111
CREATED:20250710T015754Z
LAST-MODIFIED:20250710T021048Z
UID:11950-1749922200-1757192400@achalet.com
SUMMARY:Big Bear Summer Concert Series 2025
DESCRIPTION:🎶 Free Music Under the Stars Returns to Big Bear Lake!\nGet ready to soak up the summer vibes! The Big Bear Lake Summer Concert Series 2025 is bringing free live music to the heart of the mountains. Presented by the City of Big Bear Lake and Visit Big Bear\, this beloved series showcases a stellar lineup of bands across multiple genres. \nFrom indie to rock\, funk\, country\, and even a Bruno Mars tribute\, the concerts are completely free and open to all ages. Bring a lawn chair\, grab a bite from a local restaurant\, and enjoy live music under the alpine sky. \n\n📍 Event Dates\, Times & Location\nDates: Saturday evenings\, June 28 – September 6\, 2025 \nLocation: BBMR Rathbun Parking Lot\, 42600 Rathbun Drive\, Big Bear Lake \nTime: \nEvent Begins: 5:30 PM \nFirst Band: 6:00 – 7:15 PM \nSecond Band: 7:30 – 8:30 PM \n\n🎤 Summer 2025 Concert Lineup\n\n\n\n\n\nDate\nBand(s) Performing\n\n\n\n\nJune 14\nRose City Band\n\n\nJune 28\nHome Grown & The High Curbs\n\n\nJuly 12\nJoe Peters & Craig Campbell\n\n\nJuly 26\n24K Magic (Bruno Mars Tribute) & Mestizo Beat\n\n\nAugust 7\nSad Girl & The McCharmlys\n\n\nAugust 9\nNick Waterhouse & Los So Lows\n\n\nSeptember 6\nCommon Sense & The Aggrolites (Finale)\n\n\n\n\n\n\n\n\n\nBefore or After the Show – Explore The Village\nConcerts take place near Big Bear Village\, home to a variety of restaurants\, bars\, and boutiques. Make a night of it with dinner and drinks before the first band kicks off\, or grab dessert and shop under the stars after the encore. \nLocal businesses stay open late—support the community while enjoying the sounds of summer. \n\nWhat to Bring & Know Before You Go\n\nLawn chairs\, blankets\, and light jackets (even summer nights can get chilly!)\nFood and drink are available on-site and nearby\nNo outside alcohol permitted\nParking is limited—carpool or take the free Big Bear Trolley\nEarly arrival recommended for best viewing spots\n\n\nStay the Night with A‑Chalet Vacation Rentals\nTurn your concert experience into a weekend retreat! A‑Chalet offers the largest selection of vacation rentals in Big Bear Lake\, including cabins just minutes from The Village. \n From cozy cabins to group lodgesLake views\, hot tubs\, and pet-friendly options availableContact A‑Chalet today to book your perfect summer escape! \n📍 Join us for the Big Bear Summer Concert Series 2025 – your ultimate mountain music experience!
URL:https://achalet.com/event/big-bear-summer-concert-series-2025/
LOCATION:CA
CATEGORIES:Outdoor Activities
ATTACH;FMTTYPE=image/jpeg:https://achalet.com/wp-content/uploads/2025/07/Concert.jpg
END:VEVENT
END:VCALENDAR