BEGIN:VCALENDAR
VERSION:2.0
PRODID:-//A-Chalet - ECPv6.15.20//NONSGML v1.0//EN
CALSCALE:GREGORIAN
METHOD:PUBLISH
X-WR-CALNAME:A-Chalet
X-ORIGINAL-URL:https://achalet.com
X-WR-CALDESC:Events for A-Chalet
REFRESH-INTERVAL;VALUE=DURATION:PT1H
X-Robots-Tag:noindex
X-PUBLISHED-TTL:PT1H
BEGIN:VTIMEZONE
TZID:America/Los_Angeles
BEGIN:DAYLIGHT
TZOFFSETFROM:-0800
TZOFFSETTO:-0700
TZNAME:PDT
DTSTART:20250309T100000
END:DAYLIGHT
BEGIN:STANDARD
TZOFFSETFROM:-0700
TZOFFSETTO:-0800
TZNAME:PST
DTSTART:20251102T090000
END:STANDARD
BEGIN:DAYLIGHT
TZOFFSETFROM:-0800
TZOFFSETTO:-0700
TZNAME:PDT
DTSTART:20260308T100000
END:DAYLIGHT
BEGIN:STANDARD
TZOFFSETFROM:-0700
TZOFFSETTO:-0800
TZNAME:PST
DTSTART:20261101T090000
END:STANDARD
BEGIN:DAYLIGHT
TZOFFSETFROM:-0800
TZOFFSETTO:-0700
TZNAME:PDT
DTSTART:20270314T100000
END:DAYLIGHT
BEGIN:STANDARD
TZOFFSETFROM:-0700
TZOFFSETTO:-0800
TZNAME:PST
DTSTART:20271107T090000
END:STANDARD
END:VTIMEZONE
BEGIN:VEVENT
DTSTART;TZID=America/Los_Angeles:20260424T160000
DTEND;TZID=America/Los_Angeles:20260424T220000
DTSTAMP:20260424T030822
CREATED:20260219T062831Z
LAST-MODIFIED:20260423T072813Z
UID:13003-1777046400-1777068000@achalet.com
SUMMARY:Wyatt's Grill & Saloon With Dining\,Take-Out/Delivery\, & Live Music
DESCRIPTION:
URL:https://achalet.com/event/wyatts-grill-saloon-with-diningtake-out-delivery-live-music-71/
LOCATION:Wyatt’s Grill & Saloon\, 42900 Big Bear Blvd\, Big Bear City\, CA\, United States
END:VEVENT
BEGIN:VEVENT
DTSTART;TZID=America/Los_Angeles:20260424T170000
DTEND;TZID=America/Los_Angeles:20260424T180000
DTSTAMP:20260424T030822
CREATED:20260423T072813Z
LAST-MODIFIED:20260423T072813Z
UID:13118-1777050000-1777053600@achalet.com
SUMMARY:Free Tango Lessons
DESCRIPTION:Step into the rhythm\, the connection\, and the fun of Argentine Tango — right here in Big Bear.\n \n Time: 5pm–6pm Cost: Free Partner: Not needed Ages: All ages welcome Instructors: Greg & MariaWyatt’s will be open to purchase food and drinks (4pm-10pm)\n \nJoin the Big Bear Community Dance Association for a beginner‑friendly hour of movement\, music\, and community. Greg and Maria break everything down step‑by‑step\, making it easy for absolute beginners and fun for returning dancers.\n \nWhy You’ll Love It\n-Learn a beautiful social dance in a relaxed\, supportive space\n-Meet other locals who love to move\n-No pressure\, no partner\, no experience required\n-A perfect FREE Date Night\n \nCome dance\, laugh\, and try something new — your feet might surprise you.
URL:https://achalet.com/event/free-tango-lessons/
END:VEVENT
BEGIN:VEVENT
DTSTART;TZID=America/Los_Angeles:20260424T180000
DTEND;TZID=America/Los_Angeles:20260424T220000
DTSTAMP:20260424T030822
CREATED:20260409T071317Z
LAST-MODIFIED:20260423T072813Z
UID:13092-1777053600-1777068000@achalet.com
SUMMARY:Free Live Music - Southern Spirit
DESCRIPTION: \nAbout Southern Spirit:Southern Spirit has been performing together for over 3 decades and continues to reach new audiences and fans everywhere they play. They don’t seem to be slowing down. In the 90’s and early 2000’s they were highly sought out as the opening act for many well-known artists which included Toby Keith\, Travis Tritt\, Lee Roy Parnell\, Brooks and Dunn\, Trace Adkins\, Glenn Frey\, Aaron Tippin\, Confederate Railroad\, Joe Diffie\, The Kentucky Headhunters\, Pam Tillis\, Blue County Line\, Burning Daylight\, Merle Haggard\, Mark Chesnutt\, Charley Pride\, Gene Watson and more. In 2004\nSouthern Spirit looked to finally get the radio break they had worked many years for as their single “Talk About Heroes” was climbing charts in the Southern Gulf Region. Set to tour and scheduled from Louisiana through Florida it was not meant to be as Hurricane Katrina tore through the Gulf ultimately seeing the tour canceled. Southern Spirit has performed from opening concerts\, local country night clubs\, concerts in the park\, fairs\, private and corporate events throughout Southern California\, Nevada\, Arizona\, Texas and Idaho over these many years. With a style that crosses from Country\, Southern/Classic Rock and Blues they are still hard at work performing every song with a Southern Spirit twist built around vocal harmony that is recognizable as The Southern Spirit Sound.\nFacebook:https://www.facebook.com/southern.spirit.5/ 
URL:https://achalet.com/event/free-live-music-southern-spirit/
END:VEVENT
BEGIN:VEVENT
DTSTART;TZID=America/Los_Angeles:20260424T180000
DTEND;TZID=America/Los_Angeles:20260424T220000
DTSTAMP:20260424T030822
CREATED:20260409T071318Z
LAST-MODIFIED:20260409T071318Z
UID:13093-1777053600-1777068000@achalet.com
SUMMARY:Free Live Music - Southern Spirit
DESCRIPTION: \nAbout Southern Spirit:Southern Spirit has been performing together for over 3 decades and continues to reach new audiences and fans everywhere they play. They don’t seem to be slowing down. In the 90’s and early 2000’s they were highly sought out as the opening act for many well-known artists which included Toby Keith\, Travis Tritt\, Lee Roy Parnell\, Brooks and Dunn\, Trace Adkins\, Glenn Frey\, Aaron Tippin\, Confederate Railroad\, Joe Diffie\, The Kentucky Headhunters\, Pam Tillis\, Blue County Line\, Burning Daylight\, Merle Haggard\, Mark Chesnutt\, Charley Pride\, Gene Watson and more. In 2004\nSouthern Spirit looked to finally get the radio break they had worked many years for as their single “Talk About Heroes” was climbing charts in the Southern Gulf Region. Set to tour and scheduled from Louisiana through Florida it was not meant to be as Hurricane Katrina tore through the Gulf ultimately seeing the tour canceled. Southern Spirit has performed from opening concerts\, local country night clubs\, concerts in the park\, fairs\, private and corporate events throughout Southern California\, Nevada\, Arizona\, Texas and Idaho over these many years. With a style that crosses from Country\, Southern/Classic Rock and Blues they are still hard at work performing every song with a Southern Spirit twist built around vocal harmony that is recognizable as The Southern Spirit Sound.\nFacebook:https://www.facebook.com/southern.spirit.5/ 
URL:https://achalet.com/event/free-live-music-southern-spirit-2/
END:VEVENT
END:VCALENDAR